{"text_format":"3","workbook":"xlsx","n_sheets":7,"sheets":["Istruzioni - Instruction","Riepilogo costiBreakdown costs ","Capofila - Lead institution","Partner 1","Partner 2","Partner 3","Partner 4"],"not_rendered":{"defined_names":77},"read":"whole","date_system":"1900"}

{"sheet":"Istruzioni - Instruction","index":0,"n_rows":24,"n_cols":2,"rows_kept":24}
[null,"ISTRUZIONI"]
[]
[]
[null,"Porre attenzione alla durata del progetto, ai costi eleggibili (inclusi i limiti a particolari voci del budget), ai costi totali minimo e massimo e al contributo richiesto"]
[]
[null,"Non eliminate nessun foglio di Excel"]
[null,"Le caselle in rosso si compilano automaticamente"]
[null,"Al termine della compilazione, creare un documento onnicomprensivo (pdf) del budget che comprenda anche i preventivi"]
[]
[null,"Il piano economico è uno dei documenti che saranno valutati dai revisori internazionali"]
[]
[]
[]
[]
[null,"INSTRUCTIONS"]
[]
[]
[null,"Please be careful about the project duration, the eligible costs (including budget limits), the minimum and maximum total cost and the required contributions"]
[]
[null,"Don't erase any excel spreadsheet"]
[null,"The red cells will be filled automatically "]
[null,"At the end, create a comprehensive document (pdf) of the budget including also all estimate of costs "]
[]
[null,"Note that the budget form is amongst the douments subjected to peer review"]

{"sheet":"Riepilogo costiBreakdown costs ","index":1,"n_rows":30,"n_cols":10,"rows_kept":30,"merged":[[1,1,1,5],[20,1,21,1],[20,2,20,4],[20,5,20,7],[20,8,21,8],[20,9,21,9]]}
[null,"Responsabile scientifico- PI"]
[null,"Titolo del progetto- Project title"]
[]
[null,"RIEPILOGO DEI COSTI- BREAKDOWN OF THE TOTAL COST"]
[]
[null,"NOME dell'Organizzazione - Organization NAME","Ruolo nel progetto- Role in the project"," Budget totale (€)- Overall budget (€)","Contributo richiesto (€) - Requested grant (€)\n(max 600.000 €)"]
[null,{"$f":"'Capofila - Lead institution'!B2","v":0},"Organizzazione Capofila- Lead institution",{"$f":"'Capofila - Lead institution'!I13","v":{"v":0,"d":"0.00"}},{"$f":"'Capofila - Lead institution'!J13","v":{"v":0,"d":"0.00"}}]
[null,{"$f":"'Partner 1'!B2","v":0},"Partner 1",{"$f":"'Partner 1'!I13","v":{"v":0,"d":"0.00"}},{"$f":"'Partner 1'!J13","v":{"v":0,"d":"0.00"}}]
[null,{"$f":"'Partner 2'!B2","v":"/"},"Partner 2",{"$f":"'Partner 2'!I13","v":{"v":0,"d":"0.00"}},{"$f":"'Partner 2'!J13","v":{"v":0,"d":"0.00"}}]
[null,{"$f":"'Partner 3'!B2","v":"/"},"Partner 3",{"$f":"'Partner 3'!I13","v":{"v":0,"d":"0.00"}},{"$f":"'Partner 3'!J13","v":{"v":0,"d":"0.00"}}]
[null,{"$f":"'Partner 4'!B2","v":"/"},"Partner 4",{"$f":"'Partner 4'!I13","v":{"v":0,"d":"0.00"}},{"$f":"'Partner 4'!J13","v":{"v":0,"d":"0.00"}}]
[null,"TOTALE- TOTAL",null,{"$f":"SUM(D7:D11)","v":{"v":0,"d":"0.00"}},{"$f":"SUM(E7:E11)","v":{"v":0,"d":"0.00"}}]
[]
[]
[null,"DURATA- DURATION","Periodo - Period"]
[null,"Inizio -Start "]
[null,"Fine- End "]
[null,"Mesi- Months"]
[]
[]
[null,"COSTI ELEGIBILI- ELIGIBLE COSTS","Ricerca industriale - Industrial research",null,null,"Sviluppo sperimentale- Experimental development ",null,null," Budget totale (€)-                Overall budget (€)","Contributo richiesto (€)- Requested grant (€)\n"]
[null,null,"Costi totali- Total costs"," Richiesto (max 65% dei costi totali)                                                    Requested\n(max 65% of the total costs)","Cofinanziato- Co-funded","Costi totali- Total costs"," Richiesto (max 40% dei costi totali)                                Requested\n(max 40% of the total costs)","Cofinanziato- Co-funded"]
[null,"A03-Acquisto di arredi e attrezzature - Equipment and software",{"$f":"'Capofila - Lead institution'!C6+'Partner 1'!C6+'Partner 2'!C6+'Partner 3'!C6+'Partner 4'!C6","v":{"v":0,"d":"0.00"}},{"$f":"'Capofila - Lead institution'!D6+'Partner 1'!D6+'Partner 2'!D6+'Partner 3'!D6+'Partner 4'!D6","v":{"v":0,"d":"0.00"}},{"$f":"'Capofila - Lead institution'!E6+'Partner 1'!E6+'Partner 2'!E6+'Partner 3'!E6+'Partner 4'!E6","v":{"v":0,"d":"0.00"}},{"$f":"'Capofila - Lead institution'!F6+'Partner 1'!F6+'Partner 2'!F6+'Partner 3'!F6+'Partner 4'!F6","v":{"v":0,"d":"0.00"}},{"$f":"'Capofila - Lead institution'!G6+'Partner 1'!G6+'Partner 2'!G6+'Partner 3'!G6+'Partner 4'!G6","v":{"v":0,"d":"0.00"}},{"$f":"'Capofila - Lead institution'!H6+'Partner 1'!H6+'Partner 2'!H6+'Partner 3'!H6+'Partner 4'!H6","v":{"v":0,"d":"0.00"}},{"$f":"'Capofila - Lead institution'!I6+'Partner 1'!I6+'Partner 2'!I6+'Partner 3'!I6+'Partner 4'!I6","v":{"v":0,"d":"0.00"}},{"$f":"'Capofila - Lead institution'!J6+'Partner 1'!J6+'Partner 2'!J6+'Partner 3'!J6+'Partner 4'!J6","v":{"v":0,"d":"0.00"}}]
[null,"A05-Personale strutturato- Permanent staff",{"$f":"'Capofila - Lead institution'!C7+'Partner 1'!C7+'Partner 2'!C7+'Partner 3'!C7+'Partner 4'!C7","v":{"v":0,"d":"0.00"}},{"$f":"'Capofila - Lead institution'!D7+'Partner 1'!D7+'Partner 2'!D7+'Partner 3'!D7+'Partner 4'!D7","v":{"v":0,"d":"0.00"}},{"$f":"'Capofila - Lead institution'!E7+'Partner 1'!E7+'Partner 2'!E7+'Partner 3'!E7+'Partner 4'!E7","v":{"v":0,"d":"0.00"}},{"$f":"'Capofila - Lead institution'!F7+'Partner 1'!F7+'Partner 2'!F7+'Partner 3'!F7+'Partner 4'!F7","v":{"v":0,"d":"0.00"}},{"$f":"'Capofila - Lead institution'!G7+'Partner 1'!G7+'Partner 2'!G7+'Partner 3'!G7+'Partner 4'!G7","v":{"v":0,"d":"0.00"}},{"$f":"'Capofila - Lead institution'!H7+'Partner 1'!H7+'Partner 2'!H7+'Partner 3'!H7+'Partner 4'!H7","v":{"v":0,"d":"0.00"}},{"$f":"'Capofila - Lead institution'!I7+'Partner 1'!I7+'Partner 2'!I7+'Partner 3'!I7+'Partner 4'!I7","v":{"v":0,"d":"0.00"}},{"$f":"'Capofila - Lead institution'!J7+'Partner 1'!J7+'Partner 2'!J7+'Partner 3'!J7+'Partner 4'!J7","v":{"v":0,"d":"0.00"}}]
[null,"A06- Personale non strutturato- Temporary staff (e.g. PhDs, fellowship)",{"$f":"'Capofila - Lead institution'!C8+'Partner 1'!C8+'Partner 2'!C8+'Partner 3'!C8+'Partner 4'!C8","v":{"v":0,"d":"0.00"}},{"$f":"'Capofila - Lead institution'!D8+'Partner 1'!D8+'Partner 2'!D8+'Partner 3'!D8+'Partner 4'!D8","v":{"v":0,"d":"0.00"}},{"$f":"'Capofila - Lead institution'!E8+'Partner 1'!E8+'Partner 2'!E8+'Partner 3'!E8+'Partner 4'!E8","v":{"v":0,"d":"0.00"}},{"$f":"'Capofila - Lead institution'!F8+'Partner 1'!F8+'Partner 2'!F8+'Partner 3'!F8+'Partner 4'!F8","v":{"v":0,"d":"0.00"}},{"$f":"'Capofila - Lead institution'!G8+'Partner 1'!G8+'Partner 2'!G8+'Partner 3'!G8+'Partner 4'!G8","v":{"v":0,"d":"0.00"}},{"$f":"'Capofila - Lead institution'!H8+'Partner 1'!H8+'Partner 2'!H8+'Partner 3'!H8+'Partner 4'!H8","v":{"v":0,"d":"0.00"}},{"$f":"'Capofila - Lead institution'!I8+'Partner 1'!I8+'Partner 2'!I8+'Partner 3'!I8+'Partner 4'!I8","v":{"v":0,"d":"0.00"}},{"$f":"'Capofila - Lead institution'!J8+'Partner 1'!J8+'Partner 2'!J8+'Partner 3'!J8+'Partner 4'!J8","v":{"v":0,"d":"0.00"}}]
[null,"A07-Prestazioni professionali di terzi - Sub-contractors and consultants",{"$f":"'Capofila - Lead institution'!C9+'Partner 1'!C9+'Partner 2'!C9+'Partner 3'!C9+'Partner 4'!C9","v":{"v":0,"d":"0.00"}},{"$f":"'Capofila - Lead institution'!D9+'Partner 1'!D9+'Partner 2'!D9+'Partner 3'!D9+'Partner 4'!D9","v":{"v":0,"d":"0.00"}},{"$f":"'Capofila - Lead institution'!E9+'Partner 1'!E9+'Partner 2'!E9+'Partner 3'!E9+'Partner 4'!E9","v":{"v":0,"d":"0.00"}},{"$f":"'Capofila - Lead institution'!F9+'Partner 1'!F9+'Partner 2'!F9+'Partner 3'!F9+'Partner 4'!F9","v":{"v":0,"d":"0.00"}},{"$f":"'Capofila - Lead institution'!G9+'Partner 1'!G9+'Partner 2'!G9+'Partner 3'!G9+'Partner 4'!G9","v":{"v":0,"d":"0.00"}},{"$f":"'Capofila - Lead institution'!H9+'Partner 1'!H9+'Partner 2'!H9+'Partner 3'!H9+'Partner 4'!H9","v":{"v":0,"d":"0.00"}},{"$f":"'Capofila - Lead institution'!I9+'Partner 1'!I9+'Partner 2'!I9+'Partner 3'!I9+'Partner 4'!I9","v":{"v":0,"d":"0.00"}},{"$f":"'Capofila - Lead institution'!J9+'Partner 1'!J9+'Partner 2'!J9+'Partner 3'!J9+'Partner 4'!J9","v":{"v":0,"d":"0.00"}}]
[null,"A08-Materiali di consumo - Materials and supplies",{"$f":"'Capofila - Lead institution'!C10+'Partner 1'!C10+'Partner 2'!C10+'Partner 3'!C10+'Partner 4'!C10","v":{"v":0,"d":"0.00"}},{"$f":"'Capofila - Lead institution'!D10+'Partner 1'!D10+'Partner 2'!D10+'Partner 3'!D10+'Partner 4'!D10","v":{"v":0,"d":"0.00"}},{"$f":"'Capofila - Lead institution'!E10+'Partner 1'!E10+'Partner 2'!E10+'Partner 3'!E10+'Partner 4'!E10","v":{"v":0,"d":"0.00"}},{"$f":"'Capofila - Lead institution'!F10+'Partner 1'!F10+'Partner 2'!F10+'Partner 3'!F10+'Partner 4'!F10","v":{"v":0,"d":"0.00"}},{"$f":"'Capofila - Lead institution'!G10+'Partner 1'!G10+'Partner 2'!G10+'Partner 3'!G10+'Partner 4'!G10","v":{"v":0,"d":"0.00"}},{"$f":"'Capofila - Lead institution'!H10+'Partner 1'!H10+'Partner 2'!H10+'Partner 3'!H10+'Partner 4'!H10","v":{"v":0,"d":"0.00"}},{"$f":"'Capofila - Lead institution'!I10+'Partner 1'!I10+'Partner 2'!I10+'Partner 3'!I10+'Partner 4'!I10","v":{"v":0,"d":"0.00"}},{"$f":"'Capofila - Lead institution'!J10+'Partner 1'!J10+'Partner 2'!J10+'Partner 3'!J10+'Partner 4'!J10","v":{"v":0,"d":"0.00"}}]
[null,"A09-Spese correnti (questa voce non può superare il 10% dei costi per personale strutturato e non strutturato) - Overheads (this entry cannot exceed 10% of the permament and temporary staff costs) ",{"$f":"'Capofila - Lead institution'!C11+'Partner 1'!C11+'Partner 2'!C11+'Partner 3'!C11+'Partner 4'!C11","v":{"v":0,"d":"0.00"}},{"$f":"'Capofila - Lead institution'!D11+'Partner 1'!D11+'Partner 2'!D11+'Partner 3'!D11+'Partner 4'!D11","v":{"v":0,"d":"0.00"}},{"$f":"'Capofila - Lead institution'!E11+'Partner 1'!E11+'Partner 2'!E11+'Partner 3'!E11+'Partner 4'!E11","v":{"v":0,"d":"0.00"}},{"$f":"'Capofila - Lead institution'!F11+'Partner 1'!F11+'Partner 2'!F11+'Partner 3'!F11+'Partner 4'!F11","v":{"v":0,"d":"0.00"}},{"$f":"'Capofila - Lead institution'!G11+'Partner 1'!G11+'Partner 2'!G11+'Partner 3'!G11+'Partner 4'!G11","v":{"v":0,"d":"0.00"}},{"$f":"'Capofila - Lead institution'!H11+'Partner 1'!H11+'Partner 2'!H11+'Partner 3'!H11+'Partner 4'!H11","v":{"v":0,"d":"0.00"}},{"$f":"'Capofila - Lead institution'!I11+'Partner 1'!I11+'Partner 2'!I11+'Partner 3'!I11+'Partner 4'!I11","v":{"v":0,"d":"0.00"}},{"$f":"'Capofila - Lead institution'!J11+'Partner 1'!J11+'Partner 2'!J11+'Partner 3'!J11+'Partner 4'!J11","v":{"v":0,"d":"0.00"}}]
[null,"A10-Altre spese gestionali - Other costs",{"$f":"'Capofila - Lead institution'!C12+'Partner 1'!C12+'Partner 2'!C12+'Partner 3'!C12+'Partner 4'!C12","v":{"v":0,"d":"0.00"}},{"$f":"'Capofila - Lead institution'!D12+'Partner 1'!D12+'Partner 2'!D12+'Partner 3'!D12+'Partner 4'!D12","v":{"v":0,"d":"0.00"}},{"$f":"'Capofila - Lead institution'!E12+'Partner 1'!E12+'Partner 2'!E12+'Partner 3'!E12+'Partner 4'!E12","v":{"v":0,"d":"0.00"}},{"$f":"'Capofila - Lead institution'!F12+'Partner 1'!F12+'Partner 2'!F12+'Partner 3'!F12+'Partner 4'!F12","v":{"v":0,"d":"0.00"}},{"$f":"'Capofila - Lead institution'!G12+'Partner 1'!G12+'Partner 2'!G12+'Partner 3'!G12+'Partner 4'!G12","v":{"v":0,"d":"0.00"}},{"$f":"'Capofila - Lead institution'!H12+'Partner 1'!H12+'Partner 2'!H12+'Partner 3'!H12+'Partner 4'!H12","v":{"v":0,"d":"0.00"}},{"$f":"'Capofila - Lead institution'!I12+'Partner 1'!I12+'Partner 2'!I12+'Partner 3'!I12+'Partner 4'!I12","v":{"v":0,"d":"0.00"}},{"$f":"'Capofila - Lead institution'!J12+'Partner 1'!J12+'Partner 2'!J12+'Partner 3'!J12+'Partner 4'!J12","v":{"v":0,"d":"0.00"}}]
[null,"TOTALE- TOTAL",{"$f":"SUM(C23:C29)","v":{"v":0,"d":"0.00"}},{"$f":"SUM(D23:D29)","v":{"v":0,"d":"0.00"}},{"v":0,"d":"0.00"},{"v":0,"d":"0.00"},{"v":0,"d":"0.00"},{"v":0,"d":"0.00"},{"v":0,"d":"0.00"},{"v":0,"d":"0.00"}]

{"sheet":"Capofila - Lead institution","index":2,"n_rows":92,"n_cols":14,"rows_kept":92,"merged":[[3,1,4,1],[3,2,3,4],[3,5,3,7],[3,8,4,8],[3,9,4,9],[15,2,15,4],[15,5,15,7],[15,8,16,8],[15,9,16,9],[22,1,22,9],[23,1,23,9],[25,6,25,8],[25,9,25,11],[25,12,26,12],[25,13,26,13],[35,1,35,9],[37,6,37,8],[37,9,37,11],[37,12,38,12],[37,13,38,13],[47,1,47,9],[49,2,49,4],[49,5,49,7],[49,8,50,8],[49,9,50,9],[56,1,56,9],[57,1,57,9],[59,2,59,4],[59,5,59,7],[59,8,60,8],[59,9,60,9],[67,1,67,9],[69,2,69,4],[69,5,69,7],[69,8,70,8],[69,9,70,9],[77,1,77,9],[80,2,80,4],[80,5,80,7],[80,8,81,8],[80,9,81,9],[88,1,88,9],[92,1,92,9]]}
[null,"NOME dell'Organizzazione- Organization NAME","Ruolo nel progetto- Role in the project"]
[null,null,"Organizzazione Capofila- Lead institution"]
[]
[null,"COSTI ELEGIBILI- ELIGIBLE COSTS","Ricerca industriale - Industrial research",null,null,"Sviluppo sperimentale- Experimental development ",null,null," Budget totale (€)-                Overall budget (€)","Contributo richiesto (€)- Requested grant (€)\n"]
[null,null,"Costi totali- Total costs"," Richiesto (max 65% dei costi totali)                                                    Requested\n(max 65% of the total costs)","Cofinanziato- Co-funded","Costi totali- Total costs"," Richiesto (max 40% dei costi totali)                                Requested\n(max 40% of the total costs)","Cofinanziato- Co-funded"]
[null,"A03-Acquisto di arredi e attrezzature - Equipment and software",{"$f":"C21","v":{"v":0,"d":"0.00"}},{"v":0,"d":"0.00"},{"v":0,"d":"0.00"},{"v":0,"d":"0.00"},{"v":0,"d":"0.00"},{"v":0,"d":"0.00"},{"v":0,"d":"0.00"},{"v":0,"d":"0.00"}]
[null,"A05-Personale strutturato- Permanent staff",{"$f":"G33","v":{"v":0,"d":"0.00"}},{"$f":"H33","v":{"v":0,"d":"0.00"}},{"$f":"I33","v":{"v":0,"d":"0.00"}},{"v":0,"d":"0.00"},{"v":0,"d":"0.00"},{"v":0,"d":"0.00"},{"v":0,"d":"0.00"},{"v":0,"d":"0.00"}]
[null,"A06- Personale non strutturato- Temporary staff (e.g. PhDs, fellowship)",{"$f":"G45","v":{"v":0,"d":"0.00"}},{"$f":"H45","v":{"v":0,"d":"0.00"}},{"v":0,"d":"0.00"},{"v":0,"d":"0.00"},{"v":0,"d":"0.00"},{"v":0,"d":"0.00"},{"v":0,"d":"0.00"},{"v":0,"d":"0.00"}]
[null,"A07-Prestazioni professionali di terzi - Sub-contractors and consultants",{"$f":"C55","v":{"v":0,"d":"0.00"}},{"$f":"D55","v":{"v":0,"d":"0.00"}},{"v":0,"d":"0.00"},{"v":0,"d":"0.00"},{"v":0,"d":"0.00"},{"v":0,"d":"0.00"},{"v":0,"d":"0.00"},{"v":0,"d":"0.00"}]
[null,"A08-Materiali di consumo - Materials and supplies",{"$f":"C65","v":{"v":0,"d":"0.00"}},{"$f":"D65","v":{"v":0,"d":"0.00"}},{"v":0,"d":"0.00"},{"v":0,"d":"0.00"},{"v":0,"d":"0.00"},{"v":0,"d":"0.00"},{"v":0,"d":"0.00"},{"v":0,"d":"0.00"}]
[null,"A09-Spese correnti (questa voce non può superare il 10% dei costi per personale strutturato e non strutturato) - Overheads (this entry cannot exceed 10% of the permament and temporary staff costs) ",{"$f":"C75","v":{"v":0,"d":"0.00"}},{"$f":"D75","v":{"v":0,"d":"0.00"}},{"v":0,"d":"0.00"},{"v":0,"d":"0.00"},{"v":0,"d":"0.00"},{"v":0,"d":"0.00"},{"v":0,"d":"0.00"},{"v":0,"d":"0.00"}]
[null,"A10-Altre spese gestionali - Other costs",{"$f":"C86","v":{"v":0,"d":"0.00"}},{"$f":"D86","v":{"v":0,"d":"0.00"}},{"v":0,"d":"0.00"},{"v":0,"d":"0.00"},{"v":0,"d":"0.00"},{"v":0,"d":"0.00"},{"v":0,"d":"0.00"},{"v":0,"d":"0.00"}]
[null,"TOTALE- TOTAL",{"$f":"SUM(C6:C12)","v":{"v":0,"d":"0.00"}},{"$f":"SUM(D6:D12)","v":{"v":0,"d":"0.00"}},{"v":0,"d":"0.00"},{"v":0,"d":"0.00"},{"v":0,"d":"0.00"},{"v":0,"d":"0.00"},{"v":0,"d":"0.00"},{"v":0,"d":"0.00"}]
[]
[]
[null,"A03-Acquisto di arredi e attrezzature - Equipment and software","Ricerca industriale - Industrial research",null,null,"Sviluppo sperimentale- Experimental development ",null,null," Budget totale (€)-                Overall budget (€)","Contributo richiesto (€)- Requested grant (€)\n"]
[null,"Descrizione- Description","Costi totali- Total costs"," Richiesto (max 65% dei costi totali)                                                    Requested\n(max 65% of the total costs)","Cofinanziato- Co-funded","Costi totali- Total costs"," Richiesto (max 40% dei costi totali)                                Requested\n(max 40% of the total costs)","Cofinanziato- Co-funded"]
[null,"…",{"v":0,"d":"0.00"},{"v":0,"d":"0.00"},{"v":0,"d":"0.00"},{"v":0,"d":"0.00"},{"v":0,"d":"0.00"},{"v":0,"d":"0.00"},{"$f":"SUM(C18+F18)","v":{"v":0,"d":"0.00"}},{"$f":"SUM(D18+G18)","v":{"v":0,"d":"0.00"}}]
[null,"Ad esempio- Spettrofotometro e.g.Spectrophotometer",{"v":0,"d":"0.00"},{"v":0,"d":"0.00"},{"v":0,"d":"0.00"},{"v":0,"d":"0.00"},{"v":0,"d":"0.00"},{"v":0,"d":"0.00"},{"$f":"SUM(C19+F19)","v":{"v":0,"d":"0.00"}},{"v":0,"d":"0.00"}]
[null,"Aggiungere righe se necessario- Add rows if necessary",{"v":0,"d":"0.00"},{"v":0,"d":"0.00"},{"v":0,"d":"0.00"},{"v":0,"d":"0.00"},{"v":0,"d":"0.00"},{"v":0,"d":"0.00"},{"v":0,"d":"0.00"},{"v":0,"d":"0.00"}]
[null,"TOTALE- TOTAL",{"$f":"SUM(C18:C20)","v":{"v":0,"d":"0.00"}},{"$f":"SUM(D18:D20)","v":{"v":0,"d":"0.00"}},{"v":0,"d":"0.00"},{"v":0,"d":"0.00"},{"v":0,"d":"0.00"},{"v":0,"d":"0.00"},{"$f":"SUM(C21+F21)","v":{"v":0,"d":"0.00"}},{"$f":"SUM(D21+G21)","v":{"v":0,"d":"0.00"}}]
[]
[null,"Descrivete in dettaglio gli arredi, attrezzature e software e il costo totale (allegando anche i preventivi). Considerate che solo l'ammortamento per nuovi arredi, attrezzature e software sarà considerato come costo elegibile.                                                       \nDescribe in detail the required equipment/software and the total costs (attach specific estimate of costs). Consider that only depreciation for new equipment and software is recognized as an eligible cost"]
[]
[]
[null,"A05 - Personale strutturato (incluso il nuovo personale ingaggiato)-                         Permanent staff (new personnel hired included)",{"$nulls":4},"Ricerca industriale - Industrial research",null,null,"Sviluppo sperimentale- Experimental development ",null,null," Budget totale (€)-                Overall budget (€)","Contributo richiesto (€)- Requested grant (€)\n"]
[null,"Nome- Name","Ruolo nel progetto (Wp/ tasks)                                Role in the project (Wps/tasks)","Impegno nel progetto (mesi uomo)- Effort (Person months)","Salario base annuale (€)         Annual Base Salary (€)","Ruolo all'interno dell'organizzazione            Role in the organization","Costi totali- Total costs"," Richiesto (max 65% dei costi totali)                                                    Requested\n(max 65% of the total costs)","Cofinanziato- Co-funded","Costi totali- Total costs"," Richiesto (max 40% dei costi totali)                                Requested\n(max 40% of the total costs)","Cofinanziato- Co-funded"]
[null,"…",null,null,{"v":0,"d":"0.00"},null,{"v":0,"d":"0.00"},{"v":0,"d":"0.00"},{"v":0,"d":"0.00"},{"v":0,"d":"0.00"},{"v":0,"d":"0.00"},{"v":0,"d":"0.00"},{"$f":"SUM(G28+J28)","v":{"v":0,"d":"0.00"}},{"$f":"SUM(H28+K28)","v":{"v":0,"d":"0.00"}}]
[null,"…",null,null,{"v":0,"d":"0.00"},null,{"v":0,"d":"0.00"},{"v":0,"d":"0.00"},{"v":0,"d":"0.00"},{"v":0,"d":"0.00"},{"v":0,"d":"0.00"},{"v":0,"d":"0.00"},{"$f":"SUM(G29+J29)","v":{"v":0,"d":"0.00"}},{"v":0,"d":"0.00"}]
[null,"…",null,null,{"v":0,"d":"0.00"},null,{"v":0,"d":"0.00"},{"v":0,"d":"0.00"},{"v":0,"d":"0.00"},{"v":0,"d":"0.00"},{"v":0,"d":"0.00"},{"v":0,"d":"0.00"},{"v":0,"d":"0.00"},{"v":0,"d":"0.00"}]
[null,"…",null,null,{"v":0,"d":"0.00"},null,{"v":0,"d":"0.00"},{"v":0,"d":"0.00"},{"v":0,"d":"0.00"},{"v":0,"d":"0.00"},{"v":0,"d":"0.00"},{"v":0,"d":"0.00"},{"v":0,"d":"0.00"},{"v":0,"d":"0.00"}]
[null,"Aggiungere righe se necessario- Add rows if necessary",null,null,{"v":0,"d":"0.00"},null,{"v":0,"d":"0.00"},{"v":0,"d":"0.00"},{"v":0,"d":"0.00"},{"v":0,"d":"0.00"},{"v":0,"d":"0.00"},{"v":0,"d":"0.00"},{"v":0,"d":"0.00"},{"v":0,"d":"0.00"}]
[null,"TOTALE- TOTAL",{"$nulls":4},{"$f":"SUM(G28:G32)","v":{"v":0,"d":"0.00"}},{"v":0,"d":"0.00"},{"v":0,"d":"0.00"},{"v":0,"d":"0.00"},{"v":0,"d":"0.00"},{"v":0,"d":"0.00"},{"v":0,"d":"0.00"},{"v":0,"d":"0.00"}]
[]
[null,"Chiarite con tutte le informazioni necessarie- Clarify with all necessary informations"]
[]
[]
[null,"A06 - Personale non strutturato (incluso il nuovo personale ingaggiato)-                         Temporary staff (new personnel hired included)",{"$nulls":4},"Ricerca industriale - Industrial research",null,null,"Sviluppo sperimentale- Experimental development ",null,null," Budget totale (€)-                Overall budget (€)","Contributo richiesto (€)- Requested grant (€)\n"]
[null,"Nome- Name","Ruolo nel progetto (Wp/ tasks)                                Role in the project (Wps/tasks)","Impegno nel progetto (mesi uomo)- Effort (Person months)","Salario base annuale (€)         Annual Base Salary (€)","Ruolo all'interno dell'organizzazione            Role in the organization","Costi totali- Total costs"," Richiesto (max 65% dei costi totali)                                                    Requested\n(max 65% of the total costs)","Cofinanziato- Co-funded","Costi totali- Total costs"," Richiesto (max 40% dei costi totali)                                Requested\n(max 40% of the total costs)","Cofinanziato- Co-funded"]
[null,"…",null,null,{"v":0,"d":"0.00"},null,{"v":0,"d":"0.00"},{"v":0,"d":"0.00"},{"v":0,"d":"0.00"},{"v":0,"d":"0.00"},{"v":0,"d":"0.00"},{"v":0,"d":"0.00"},{"$f":"SUM(G40+J40)","v":{"v":0,"d":"0.00"}},{"$f":"SUM(H40+K40)","v":{"v":0,"d":"0.00"}}]
[null,"…",null,null,{"v":0,"d":"0.00"},null,{"v":0,"d":"0.00"},{"v":0,"d":"0.00"},{"v":0,"d":"0.00"},{"v":0,"d":"0.00"},{"v":0,"d":"0.00"},{"v":0,"d":"0.00"},{"$f":"SUM(G41+J41)","v":{"v":0,"d":"0.00"}},{"v":0,"d":"0.00"}]
[null,"…",null,null,{"v":0,"d":"0.00"},null,{"v":0,"d":"0.00"},{"v":0,"d":"0.00"},{"v":0,"d":"0.00"},{"v":0,"d":"0.00"},{"v":0,"d":"0.00"},{"v":0,"d":"0.00"},{"v":0,"d":"0.00"},{"v":0,"d":"0.00"}]
[null,"…",null,null,{"v":0,"d":"0.00"},null,{"v":0,"d":"0.00"},{"v":0,"d":"0.00"},{"v":0,"d":"0.00"},{"v":0,"d":"0.00"},{"v":0,"d":"0.00"},{"v":0,"d":"0.00"},{"v":0,"d":"0.00"},{"v":0,"d":"0.00"}]
[null,"Aggiungere righe se necessario- Add rows if necessary",null,null,{"v":0,"d":"0.00"},null,{"v":0,"d":"0.00"},{"v":0,"d":"0.00"},{"v":0,"d":"0.00"},{"v":0,"d":"0.00"},{"v":0,"d":"0.00"},{"v":0,"d":"0.00"},{"v":0,"d":"0.00"},{"v":0,"d":"0.00"}]
[null,"TOTALE- TOTAL",{"$nulls":4},{"$f":"SUM(G40:G44)","v":{"v":0,"d":"0.00"}},{"$f":"SUM(H40:H44)","v":{"v":0,"d":"0.00"}},{"v":0,"d":"0.00"},{"v":0,"d":"0.00"},{"v":0,"d":"0.00"},{"v":0,"d":"0.00"},{"$f":"SUM(M40:M44)","v":{"v":0,"d":"0.00"}},{"$f":"SUM(N40:N44)","v":{"v":0,"d":"0.00"}}]
[]
[null,"Chiarite con tutte le informazioni necessarie- Clarify with all necessary informations"]
[]
[]
[null,"A07 - Prestazioni professionali di terzi - Sub-contractors and consultants","Ricerca industriale - Industrial research",null,null,"Sviluppo sperimentale- Experimental development ",null,null," Budget totale (€)-                Overall budget (€)","Contributo richiesto (€)- Requested grant (€)\n"]
[null,"Nome e affiliazione -Name & affiliation","Costi totali- Total costs"," Richiesto (max 65% dei costi totali)                                                    Requested\n(max 65% of the total costs)","Cofinanziato- Co-funded","Costi totali- Total costs"," Richiesto (max 40% dei costi totali)                                Requested\n(max 40% of the total costs)","Cofinanziato- Co-funded"]
[null,"…",{"v":0,"d":"0.00"},{"v":0,"d":"0.00"},{"v":0,"d":"0.00"},{"v":0,"d":"0.00"},{"v":0,"d":"0.00"},{"v":0,"d":"0.00"},{"$f":"SUM(C52+F52)","v":{"v":0,"d":"0.00"}},{"$f":"SUM(D52+G52)","v":{"v":0,"d":"0.00"}}]
[null,"Costi per audit- audit Costs",{"v":0,"d":"0.00"},{"v":0,"d":"0.00"},{"v":0,"d":"0.00"},{"v":0,"d":"0.00"},{"v":0,"d":"0.00"},{"v":0,"d":"0.00"},{"$f":"SUM(C53+F53)","v":{"v":0,"d":"0.00"}},{"v":0,"d":"0.00"}]
[null,"Aggiungere righe se necessario- Add rows if necessary",{"v":0,"d":"0.00"},{"v":0,"d":"0.00"},{"v":0,"d":"0.00"},{"v":0,"d":"0.00"},{"v":0,"d":"0.00"},{"v":0,"d":"0.00"},{"v":0,"d":"0.00"},{"v":0,"d":"0.00"}]
[null,"TOTALE- TOTAL",{"$f":"SUM(C52:C54)","v":{"v":0,"d":"0.00"}},{"$f":"SUM(D52:D54)","v":{"v":0,"d":"0.00"}},{"v":0,"d":"0.00"},{"v":0,"d":"0.00"},{"v":0,"d":"0.00"},{"v":0,"d":"0.00"},{"$f":"SUM(C55+F55)","v":{"v":0,"d":"0.00"}},{"$f":"SUM(D55+G55)","v":{"v":0,"d":"0.00"}}]
[]
[null,"Elencate i prestatori professionali di terzi e i consulenti e le loro affiliazioni, dettagliando il loro ruolo all'interno del progetto (allegando specifici preventivi).                                                                                                                                                                                List sub-contractors and consultants together with their affiliation, detail their role in the project (attach specific quotation)"]
[]
[]
[null,"A08-Materiale di consumo - Material and supplies","Ricerca industriale - Industrial research",null,null,"Sviluppo sperimentale- Experimental development ",null,null," Budget totale (€)-                Overall budget (€)","Contributo richiesto (€)- Requested grant (€)\n"]
[null,"Categorie- Categories","Costi totali- Total costs"," Richiesto (max 65% dei costi totali)                                                    Requested\n(max 65% of the total costs)","Cofinanziato- Co-funded","Costi totali- Total costs"," Richiesto (max 40% dei costi totali)                                Requested\n(max 40% of the total costs)","Cofinanziato- Co-funded"]
[null,"…",{"v":0,"d":"0.00"},{"v":0,"d":"0.00"},{"v":0,"d":"0.00"},{"v":0,"d":"0.00"},{"v":0,"d":"0.00"},{"v":0,"d":"0.00"},{"$f":"SUM(C62+F62)","v":{"v":0,"d":"0.00"}},{"$f":"SUM(D62+G62)","v":{"v":0,"d":"0.00"}}]
[null,"…",{"v":0,"d":"0.00"},{"v":0,"d":"0.00"},{"v":0,"d":"0.00"},{"v":0,"d":"0.00"},{"v":0,"d":"0.00"},{"v":0,"d":"0.00"},{"v":0,"d":"0.00"},{"$f":"SUM(D63+G63)","v":{"v":0,"d":"0.00"}}]
[null,"Aggiungere righe se necessario- Add rows if necessary",{"v":0,"d":"0.00"},{"v":0,"d":"0.00"},{"v":0,"d":"0.00"},{"v":0,"d":"0.00"},{"v":0,"d":"0.00"},{"v":0,"d":"0.00"},{"v":0,"d":"0.00"},{"$f":"SUM(D64+G64)","v":{"v":0,"d":"0.00"}}]
[null,"TOTALE- TOTAL",{"$f":"SUM(C62:C64)","v":{"v":0,"d":"0.00"}},{"$f":"SUM(D62:D64)","v":{"v":0,"d":"0.00"}},{"v":0,"d":"0.00"},{"v":0,"d":"0.00"},{"v":0,"d":"0.00"},{"v":0,"d":"0.00"},{"v":0,"d":"0.00"},{"v":0,"d":"0.00"}]
[]
[null,"Specificate quantità e tipologie- Specify quantity and quality "]
[]
[]
[null,"A09-Spese correnti (non oltre il 10% dei costi per personale strutturato e non strutturato) - Overheads (this entry cannot exceed 10% of the permament and temporary staff costs) ","Ricerca industriale - Industrial research",null,null,"Sviluppo sperimentale- Experimental development ",null,null," Budget totale (€)-                Overall budget (€)","Contributo richiesto (€)- Requested grant (€)\n"]
[null,"Descrizione- Description","Costi totali- Total costs"," Richiesto (max 65% dei costi totali)                                                    Requested\n(max 65% of the total costs)","Cofinanziato- Co-funded","Costi totali- Total costs"," Richiesto (max 40% dei costi totali)                                Requested\n(max 40% of the total costs)","Cofinanziato- Co-funded"]
[null,"…",{"v":0,"d":"0.00"},{"v":0,"d":"0.00"},{"v":0,"d":"0.00"},{"v":0,"d":"0.00"},{"v":0,"d":"0.00"},{"v":0,"d":"0.00"},{"$f":"SUM(C72+F72)","v":{"v":0,"d":"0.00"}},{"v":0,"d":"0.00"}]
[null,"…",{"v":0,"d":"0.00"},{"v":0,"d":"0.00"},{"v":0,"d":"0.00"},{"v":0,"d":"0.00"},{"v":0,"d":"0.00"},{"v":0,"d":"0.00"},{"v":0,"d":"0.00"},{"v":0,"d":"0.00"}]
[null,"Aggiungere righe se necessario- Add rows if necessary",{"v":0,"d":"0.00"},{"v":0,"d":"0.00"},{"v":0,"d":"0.00"},{"v":0,"d":"0.00"},{"v":0,"d":"0.00"},{"v":0,"d":"0.00"},{"v":0,"d":"0.00"},{"v":0,"d":"0.00"}]
[null,"TOTALE- TOTAL",{"$f":"SUM(C72:C74)","v":{"v":0,"d":"0.00"}},{"$f":"SUM(D72:D74)","v":{"v":0,"d":"0.00"}},{"v":0,"d":"0.00"},{"v":0,"d":"0.00"},{"v":0,"d":"0.00"},{"v":0,"d":"0.00"},{"v":0,"d":"0.00"},{"v":0,"d":"0.00"}]
[]
[null,"Specificate- Specify"]
[]
[]
[]
[null,"A10 - Altre spese gestionali- Other costs","Ricerca industriale - Industrial research",null,null,"Sviluppo sperimentale- Experimental development ",null,null," Budget totale (€)-                Overall budget (€)","Contributo richiesto (€)- Requested grant (€)\n"]
[null,"Descrizione- Description","Costi totali- Total costs"," Richiesto (max 65% dei costi totali)                                                    Requested\n(max 65% of the total costs)","Cofinanziato- Co-funded","Costi totali- Total costs"," Richiesto (max 40% dei costi totali)                                Requested\n(max 40% of the total costs)","Cofinanziato- Co-funded"]
[null,"…",{"v":0,"d":"0.00"},{"v":0,"d":"0.00"},{"v":0,"d":"0.00"},{"v":0,"d":"0.00"},{"v":0,"d":"0.00"},{"v":0,"d":"0.00"},{"$f":"SUM(C83+F83)","v":{"v":0,"d":"0.00"}},{"v":0,"d":"0.00"}]
[null,"…",{"v":0,"d":"0.00"},{"v":0,"d":"0.00"},{"v":0,"d":"0.00"},{"v":0,"d":"0.00"},{"v":0,"d":"0.00"},{"v":0,"d":"0.00"},{"v":0,"d":"0.00"},{"v":0,"d":"0.00"}]
[null,"Aggiungere righe se necessario- Add rows if necessary",{"v":0,"d":"0.00"},{"v":0,"d":"0.00"},{"v":0,"d":"0.00"},{"v":0,"d":"0.00"},{"v":0,"d":"0.00"},{"v":0,"d":"0.00"},{"v":0,"d":"0.00"},{"v":0,"d":"0.00"}]
[null,"TOTALE- TOTAL",{"$f":"SUM(C83:C85)","v":{"v":0,"d":"0.00"}},{"$f":"SUM(D83:D85)","v":{"v":0,"d":"0.00"}},{"v":0,"d":"0.00"},{"v":0,"d":"0.00"},{"v":0,"d":"0.00"},{"v":0,"d":"0.00"},{"v":0,"d":"0.00"},{"v":0,"d":"0.00"}]
[]
[null,"Specificate- Specify"]
[]
[]
[]
[null,"Commenti aggiuntivi- Additional comments"]

{"sheet":"Partner 1","index":3,"n_rows":92,"n_cols":14,"rows_kept":92,"merged":[[3,1,4,1],[3,2,3,4],[3,5,3,7],[3,8,4,8],[3,9,4,9],[15,2,15,4],[15,5,15,7],[15,8,16,8],[15,9,16,9],[22,1,22,9],[23,1,23,9],[25,6,25,8],[25,9,25,11],[25,12,26,12],[25,13,26,13],[35,1,35,9],[37,6,37,8],[37,9,37,11],[37,12,38,12],[37,13,38,13],[47,1,47,9],[49,2,49,4],[49,5,49,7],[49,8,50,8],[49,9,50,9],[56,1,56,9],[57,1,57,9],[59,2,59,4],[59,5,59,7],[59,8,60,8],[59,9,60,9],[67,1,67,9],[69,2,69,4],[69,5,69,7],[69,8,70,8],[69,9,70,9],[77,1,77,9],[80,2,80,4],[80,5,80,7],[80,8,81,8],[80,9,81,9],[88,1,88,9],[92,1,92,9]]}
[null,"NOME dell'Organizzazione- Organization NAME","Ruolo nel progetto- Role in the project"]
[null,null,"Partner 1"]
[]
[null,"COSTI ELEGIBILI- ELIGIBLE COSTS","Ricerca industriale - Industrial research",null,null,"Sviluppo sperimentale- Experimental development ",null,null," Budget totale (€)-                Overall budget (€)","Contributo richiesto (€)- Requested grant (€)\n"]
[null,null,"Costi totali- Total costs"," Richiesto (max 65% dei costi totali)                                                    Requested\n(max 65% of the total costs)","Cofinanziato- Co-funded","Costi totali- Total costs"," Richiesto (max 40% dei costi totali)                                Requested\n(max 40% of the total costs)","Cofinanziato- Co-funded"]
[null,"A03-Acquisto di arredi e attrezzature - Equipment and software",{"$f":"C21","v":{"v":0,"d":"0.00"}},{"v":0,"d":"0.00"},{"v":0,"d":"0.00"},{"v":0,"d":"0.00"},{"v":0,"d":"0.00"},{"v":0,"d":"0.00"},{"v":0,"d":"0.00"},{"v":0,"d":"0.00"}]
[null,"A05-Personale strutturato- Permanent staff",{"$f":"G33","v":{"v":0,"d":"0.00"}},{"$f":"H33","v":{"v":0,"d":"0.00"}},{"$f":"I33","v":{"v":0,"d":"0.00"}},{"v":0,"d":"0.00"},{"v":0,"d":"0.00"},{"v":0,"d":"0.00"},{"v":0,"d":"0.00"},{"v":0,"d":"0.00"}]
[null,"A06- Personale non strutturato- Temporary staff (e.g. PhDs, fellowship)",{"$f":"G45","v":{"v":0,"d":"0.00"}},{"$f":"H45","v":{"v":0,"d":"0.00"}},{"v":0,"d":"0.00"},{"v":0,"d":"0.00"},{"v":0,"d":"0.00"},{"v":0,"d":"0.00"},{"v":0,"d":"0.00"},{"v":0,"d":"0.00"}]
[null,"A07-Prestazioni professionali di terzi - Sub-contractors and consultants",{"$f":"C55","v":{"v":0,"d":"0.00"}},{"$f":"D55","v":{"v":0,"d":"0.00"}},{"v":0,"d":"0.00"},{"v":0,"d":"0.00"},{"v":0,"d":"0.00"},{"v":0,"d":"0.00"},{"v":0,"d":"0.00"},{"v":0,"d":"0.00"}]
[null,"A08-Materiali di consumo - Materials and supplies",{"$f":"C65","v":{"v":0,"d":"0.00"}},{"$f":"D65","v":{"v":0,"d":"0.00"}},{"v":0,"d":"0.00"},{"v":0,"d":"0.00"},{"v":0,"d":"0.00"},{"v":0,"d":"0.00"},{"v":0,"d":"0.00"},{"v":0,"d":"0.00"}]
[null,"A09-Spese correnti (questa voce non può superare il 10% dei costi per personale strutturato e non strutturato) - Overheads (this entry cannot exceed 10% of the permament and temporary staff costs) ",{"$f":"C75","v":{"v":0,"d":"0.00"}},{"$f":"D75","v":{"v":0,"d":"0.00"}},{"v":0,"d":"0.00"},{"v":0,"d":"0.00"},{"v":0,"d":"0.00"},{"v":0,"d":"0.00"},{"v":0,"d":"0.00"},{"v":0,"d":"0.00"}]
[null,"A10-Altre spese gestionali - Other costs",{"$f":"C86","v":{"v":0,"d":"0.00"}},{"$f":"D86","v":{"v":0,"d":"0.00"}},{"v":0,"d":"0.00"},{"v":0,"d":"0.00"},{"v":0,"d":"0.00"},{"v":0,"d":"0.00"},{"v":0,"d":"0.00"},{"v":0,"d":"0.00"}]
[null,"TOTALE- TOTAL",{"$f":"SUM(C6:C12)","v":{"v":0,"d":"0.00"}},{"$f":"SUM(D6:D12)","v":{"v":0,"d":"0.00"}},{"v":0,"d":"0.00"},{"v":0,"d":"0.00"},{"v":0,"d":"0.00"},{"v":0,"d":"0.00"},{"v":0,"d":"0.00"},{"v":0,"d":"0.00"}]
[]
[]
[null,"A03-Acquisto di arredi e attrezzature - Equipment and software","Ricerca industriale - Industrial research",null,null,"Sviluppo sperimentale- Experimental development ",null,null," Budget totale (€)-                Overall budget (€)","Contributo richiesto (€)- Requested grant (€)\n"]
[null,"Descrizione- Description","Costi totali- Total costs"," Richiesto (max 65% dei costi totali)                                                    Requested\n(max 65% of the total costs)","Cofinanziato- Co-funded","Costi totali- Total costs"," Richiesto (max 40% dei costi totali)                                Requested\n(max 40% of the total costs)","Cofinanziato- Co-funded"]
[null,"…",{"v":0,"d":"0.00"},{"v":0,"d":"0.00"},{"v":0,"d":"0.00"},{"v":0,"d":"0.00"},{"v":0,"d":"0.00"},{"v":0,"d":"0.00"},{"$f":"SUM(C18+F18)","v":{"v":0,"d":"0.00"}},{"$f":"SUM(D18+G18)","v":{"v":0,"d":"0.00"}}]
[null,"Ad esempio- Spettrofotometro e.g.Spectrophotometer",{"v":0,"d":"0.00"},{"v":0,"d":"0.00"},{"v":0,"d":"0.00"},{"v":0,"d":"0.00"},{"v":0,"d":"0.00"},{"v":0,"d":"0.00"},{"$f":"SUM(C19+F19)","v":{"v":0,"d":"0.00"}},{"v":0,"d":"0.00"}]
[null,"Aggiungere righe se necessario- Add rows if necessary",{"v":0,"d":"0.00"},{"v":0,"d":"0.00"},{"v":0,"d":"0.00"},{"v":0,"d":"0.00"},{"v":0,"d":"0.00"},{"v":0,"d":"0.00"},{"v":0,"d":"0.00"},{"v":0,"d":"0.00"}]
[null,"TOTALE- TOTAL",{"$f":"SUM(C18:C20)","v":{"v":0,"d":"0.00"}},{"$f":"SUM(D18:D20)","v":{"v":0,"d":"0.00"}},{"v":0,"d":"0.00"},{"v":0,"d":"0.00"},{"v":0,"d":"0.00"},{"v":0,"d":"0.00"},{"$f":"SUM(C21+F21)","v":{"v":0,"d":"0.00"}},{"$f":"SUM(D21+G21)","v":{"v":0,"d":"0.00"}}]
[]
[null,"Descrivete in dettaglio gli arredi, attrezzature e software e il costo totale (allegando anche specifici preventivi). Considerate che solo l' ammortamento per nuovi arredi, attrezzature e software sarà considerato come costo elegibile.                                                       Describe in detail the required equipment/software and the total costs (attach specific estimate of costs). Consider that only depreciation for new equipment and software is recognized as an eligible cost"]
[]
[]
[null,"A05 - Personale strutturato (incluso il nuovo personale ingaggiato)-                         Permanent staff (new personnel hired included)",{"$nulls":4},"Ricerca industriale - Industrial research",null,null,"Sviluppo sperimentale- Experimental development ",null,null," Budget totale (€)-                Overall budget (€)","Contributo richiesto (€)- Requested grant (€)\n"]
[null,"Nome- Name","Ruolo nel progetto (Wp/ tasks)                                Role in the project (Wps/tasks)","Impegno nel progetto (mesi uomo)- Effort (Person months)","Salario base annuale (€)         Annual Base Salary (€)","Ruolo all'interno dell'organizzazione            Role in the organization","Costi totali- Total costs"," Richiesto (max 65% dei costi totali)                                                    Requested\n(max 65% of the total costs)","Cofinanziato- Co-funded","Costi totali- Total costs"," Richiesto (max 40% dei costi totali)                                Requested\n(max 40% of the total costs)","Cofinanziato- Co-funded"]
[null,"…",null,null,{"v":0,"d":"0.00"},null,{"v":0,"d":"0.00"},{"v":0,"d":"0.00"},{"v":0,"d":"0.00"},{"v":0,"d":"0.00"},{"v":0,"d":"0.00"},{"v":0,"d":"0.00"},{"$f":"SUM(G28+J28)","v":{"v":0,"d":"0.00"}},{"$f":"SUM(H28+K28)","v":{"v":0,"d":"0.00"}}]
[null,"…",null,null,{"v":0,"d":"0.00"},null,{"v":0,"d":"0.00"},{"v":0,"d":"0.00"},{"v":0,"d":"0.00"},{"v":0,"d":"0.00"},{"v":0,"d":"0.00"},{"v":0,"d":"0.00"},{"$f":"SUM(G29+J29)","v":{"v":0,"d":"0.00"}},{"v":0,"d":"0.00"}]
[null,"…",null,null,{"v":0,"d":"0.00"},null,{"v":0,"d":"0.00"},{"v":0,"d":"0.00"},{"v":0,"d":"0.00"},{"v":0,"d":"0.00"},{"v":0,"d":"0.00"},{"v":0,"d":"0.00"},{"v":0,"d":"0.00"},{"v":0,"d":"0.00"}]
[null,"…",null,null,{"v":0,"d":"0.00"},null,{"v":0,"d":"0.00"},{"v":0,"d":"0.00"},{"v":0,"d":"0.00"},{"v":0,"d":"0.00"},{"v":0,"d":"0.00"},{"v":0,"d":"0.00"},{"v":0,"d":"0.00"},{"v":0,"d":"0.00"}]
[null,"Aggiungere righe se necessario- Add rows if necessary",null,null,{"v":0,"d":"0.00"},null,{"v":0,"d":"0.00"},{"v":0,"d":"0.00"},{"v":0,"d":"0.00"},{"v":0,"d":"0.00"},{"v":0,"d":"0.00"},{"v":0,"d":"0.00"},{"v":0,"d":"0.00"},{"v":0,"d":"0.00"}]
[null,"TOTALE- TOTAL",{"$nulls":4},{"$f":"SUM(G28:G32)","v":{"v":0,"d":"0.00"}},{"$f":"SUM(H28:H32)","v":{"v":0,"d":"0.00"}},{"v":0,"d":"0.00"},{"v":0,"d":"0.00"},{"v":0,"d":"0.00"},{"v":0,"d":"0.00"},{"$f":"SUM(M28:M32)","v":{"v":0,"d":"0.00"}},{"$f":"SUM(N28:N32)","v":{"v":0,"d":"0.00"}}]
[]
[null,"Chiarite con tutte le informazioni necessarie- Clarify with all necessary informations"]
[]
[]
[null,"A06 - Personale non struttuorato (incluso il nuovo personale ingaggiato)-                         Temporary staff (new personnel hired included)",{"$nulls":4},"Ricerca industriale - Industrial research",null,null,"Sviluppo sperimentale- Experimental development ",null,null," Budget totale (€)-                Overall budget (€)","Contributo richiesto (€)- Requested grant (€)\n"]
[null,"Nome- Name","Ruolo nel progetto (Wp/ tasks)                                Role in the project (Wps/tasks)","Impegno nel progetto (mesi uomo)- Effort (Person months)","Salario base annuale (€)         Annual Base Salary (€)","Ruolo all'interno dell'organizzazione            Role in the organization","Costi totali- Total costs"," Richiesto (max 65% dei costi totali)                                                    Requested\n(max 65% of the total costs)","Cofinanziato- Co-funded","Costi totali- Total costs"," Richiesto (max 40% dei costi totali)                                Requested\n(max 40% of the total costs)","Cofinanziato- Co-funded"]
[null,"…",null,null,{"v":0,"d":"0.00"},null,{"v":0,"d":"0.00"},{"v":0,"d":"0.00"},{"v":0,"d":"0.00"},{"v":0,"d":"0.00"},{"v":0,"d":"0.00"},{"v":0,"d":"0.00"},{"$f":"SUM(G40+J40)","v":{"v":0,"d":"0.00"}},{"$f":"SUM(H40+K40)","v":{"v":0,"d":"0.00"}}]
[null,"…",null,null,{"v":0,"d":"0.00"},null,{"v":0,"d":"0.00"},{"v":0,"d":"0.00"},{"v":0,"d":"0.00"},{"v":0,"d":"0.00"},{"v":0,"d":"0.00"},{"v":0,"d":"0.00"},{"$f":"SUM(G41+J41)","v":{"v":0,"d":"0.00"}},{"v":0,"d":"0.00"}]
[null,"…",null,null,{"v":0,"d":"0.00"},null,{"v":0,"d":"0.00"},{"v":0,"d":"0.00"},{"v":0,"d":"0.00"},{"v":0,"d":"0.00"},{"v":0,"d":"0.00"},{"v":0,"d":"0.00"},{"v":0,"d":"0.00"},{"v":0,"d":"0.00"}]
[null,"…",null,null,{"v":0,"d":"0.00"},null,{"v":0,"d":"0.00"},{"v":0,"d":"0.00"},{"v":0,"d":"0.00"},{"v":0,"d":"0.00"},{"v":0,"d":"0.00"},{"v":0,"d":"0.00"},{"v":0,"d":"0.00"},{"v":0,"d":"0.00"}]
[null,"Aggiungere righe se necessario- Add rows if necessary",null,null,{"v":0,"d":"0.00"},null,{"v":0,"d":"0.00"},{"v":0,"d":"0.00"},{"v":0,"d":"0.00"},{"v":0,"d":"0.00"},{"v":0,"d":"0.00"},{"v":0,"d":"0.00"},{"v":0,"d":"0.00"},{"v":0,"d":"0.00"}]
[null,"TOTALE- TOTAL",{"$nulls":4},{"$f":"SUM(G40:G44)","v":{"v":0,"d":"0.00"}},{"$f":"SUM(H40:H44)","v":{"v":0,"d":"0.00"}},{"v":0,"d":"0.00"},{"v":0,"d":"0.00"},{"v":0,"d":"0.00"},{"v":0,"d":"0.00"},{"$f":"SUM(M40:M44)","v":{"v":0,"d":"0.00"}},{"$f":"SUM(N40:N44)","v":{"v":0,"d":"0.00"}}]
[]
[null,"Chiarite con tutte le informazioni necessarie- Clarify with all necessary informations"]
[]
[]
[null,"A07 - Prestazioni professionali di terzi - Sub-contractors and consultants","Ricerca industriale - Industrial research",null,null,"Sviluppo sperimentale- Experimental development ",null,null," Budget totale (€)-                Overall budget (€)","Contributo richiesto (€)- Requested grant (€)\n"]
[null,"Nome e affiliazione -Name & affiliation","Costi totali- Total costs"," Richiesto (max 65% dei costi totali)                                                    Requested\n(max 65% of the total costs)","Cofinanziato- Co-funded","Costi totali- Total costs"," Richiesto (max 40% dei costi totali)                                Requested\n(max 40% of the total costs)","Cofinanziato- Co-funded"]
[null,"…",{"v":0,"d":"0.00"},{"v":0,"d":"0.00"},{"v":0,"d":"0.00"},{"v":0,"d":"0.00"},{"v":0,"d":"0.00"},{"v":0,"d":"0.00"},{"$f":"SUM(C52+F52)","v":{"v":0,"d":"0.00"}},{"$f":"SUM(D52+G52)","v":{"v":0,"d":"0.00"}}]
[null,"Costi per audit- audit Costs",{"v":0,"d":"0.00"},{"v":0,"d":"0.00"},{"v":0,"d":"0.00"},{"v":0,"d":"0.00"},{"v":0,"d":"0.00"},{"v":0,"d":"0.00"},{"$f":"SUM(C53+F53)","v":{"v":0,"d":"0.00"}},{"v":0,"d":"0.00"}]
[null,"Aggiungere righe se necessario- Add rows if necessary",{"v":0,"d":"0.00"},{"v":0,"d":"0.00"},{"v":0,"d":"0.00"},{"v":0,"d":"0.00"},{"v":0,"d":"0.00"},{"v":0,"d":"0.00"},{"v":0,"d":"0.00"},{"v":0,"d":"0.00"}]
[null,"TOTALE- TOTAL",{"$f":"SUM(C52:C54)","v":{"v":0,"d":"0.00"}},{"$f":"SUM(D52:D54)","v":{"v":0,"d":"0.00"}},{"v":0,"d":"0.00"},{"v":0,"d":"0.00"},{"v":0,"d":"0.00"},{"v":0,"d":"0.00"},{"$f":"SUM(C55+F55)","v":{"v":0,"d":"0.00"}},{"$f":"SUM(D55+G55)","v":{"v":0,"d":"0.00"}}]
[]
[null,"Elencate i prestatori professionali di terzi e i consulenti e le loro affiliazioni, dettagliando il loro ruolo all'interno del progetto (allegando specifici preventivi).                                                                                                                                                                                List sub-contractors and consultants together with their affiliation, detail their role in the project (attach specific quotation)"]
[]
[]
[null,"A08-Materiale di consumo - Material and supplies","Ricerca industriale - Industrial research",null,null,"Sviluppo sperimentale- Experimental development ",null,null," Budget totale (€)-                Overall budget (€)","Contributo richiesto (€)- Requested grant (€)\n"]
[null,"Categorie- Categories","Costi totali- Total costs"," Richiesto (max 65% dei costi totali)                                                    Requested\n(max 65% of the total costs)","Cofinanziato- Co-funded","Costi totali- Total costs"," Richiesto (max 40% dei costi totali)                                Requested\n(max 40% of the total costs)","Cofinanziato- Co-funded"]
[null,"…",{"v":0,"d":"0.00"},{"v":0,"d":"0.00"},{"v":0,"d":"0.00"},{"v":0,"d":"0.00"},{"v":0,"d":"0.00"},{"v":0,"d":"0.00"},{"$f":"SUM(C62+F62)","v":{"v":0,"d":"0.00"}},{"$f":"SUM(D62+G62)","v":{"v":0,"d":"0.00"}}]
[null,"…",{"v":0,"d":"0.00"},{"v":0,"d":"0.00"},{"v":0,"d":"0.00"},{"v":0,"d":"0.00"},{"v":0,"d":"0.00"},{"v":0,"d":"0.00"},{"v":0,"d":"0.00"},{"$f":"SUM(D63+G63)","v":{"v":0,"d":"0.00"}}]
[null,"Aggiungere righe se necessario- Add rows if necessary",{"v":0,"d":"0.00"},{"v":0,"d":"0.00"},{"v":0,"d":"0.00"},{"v":0,"d":"0.00"},{"v":0,"d":"0.00"},{"v":0,"d":"0.00"},{"v":0,"d":"0.00"},{"$f":"SUM(D64+G64)","v":{"v":0,"d":"0.00"}}]
[null,"TOTALE- TOTAL",{"$f":"SUM(C62:C64)","v":{"v":0,"d":"0.00"}},{"$f":"SUM(D62:D64)","v":{"v":0,"d":"0.00"}},{"v":0,"d":"0.00"},{"v":0,"d":"0.00"},{"v":0,"d":"0.00"},{"v":0,"d":"0.00"},{"v":0,"d":"0.00"},{"v":0,"d":"0.00"}]
[]
[null,"Specificate quantità e tipologie- Specify quantity and quality "]
[]
[]
[null,"A09-Spese correnti (non oltre il 10% dei costi per personale strutturato e non strutturato) - Overheads (this entry cannot exceed 10% of the permament and temporary staff costs) ","Ricerca industriale - Industrial research",null,null,"Sviluppo sperimentale- Experimental development ",null,null," Budget totale (€)-                Overall budget (€)","Contributo richiesto (€)- Requested grant (€)\n"]
[null,"Descrizione- Description","Costi totali- Total costs"," Richiesto (max 65% dei costi totali)                                                    Requested\n(max 65% of the total costs)","Cofinanziato- Co-funded","Costi totali- Total costs"," Richiesto (max 40% dei costi totali)                                Requested\n(max 40% of the total costs)","Cofinanziato- Co-funded"]
[null,"…",{"v":0,"d":"0.00"},{"v":0,"d":"0.00"},{"v":0,"d":"0.00"},{"v":0,"d":"0.00"},{"v":0,"d":"0.00"},{"v":0,"d":"0.00"},{"$f":"SUM(C72+F72)","v":{"v":0,"d":"0.00"}},{"v":0,"d":"0.00"}]
[null,"…",{"v":0,"d":"0.00"},{"v":0,"d":"0.00"},{"v":0,"d":"0.00"},{"v":0,"d":"0.00"},{"v":0,"d":"0.00"},{"v":0,"d":"0.00"},{"v":0,"d":"0.00"},{"v":0,"d":"0.00"}]
[null,"Aggiungere righe se necessario- Add rows if necessary",{"v":0,"d":"0.00"},{"v":0,"d":"0.00"},{"v":0,"d":"0.00"},{"v":0,"d":"0.00"},{"v":0,"d":"0.00"},{"v":0,"d":"0.00"},{"v":0,"d":"0.00"},{"v":0,"d":"0.00"}]
[null,"TOTALE- TOTAL",{"$f":"SUM(C72:C74)","v":{"v":0,"d":"0.00"}},{"$f":"SUM(D72:D74)","v":{"v":0,"d":"0.00"}},{"v":0,"d":"0.00"},{"v":0,"d":"0.00"},{"v":0,"d":"0.00"},{"v":0,"d":"0.00"},{"v":0,"d":"0.00"},{"v":0,"d":"0.00"}]
[]
[null,"Specificate- Specify"]
[]
[]
[]
[null,"A10 - Altre spese gestionali- Other costs","Ricerca industriale - Industrial research",null,null,"Sviluppo sperimentale- Experimental development ",null,null," Budget totale (€)-                Overall budget (€)","Contributo richiesto (€)- Requested grant (€)\n"]
[null,"Descrizione- Description","Costi totali- Total costs"," Richiesto (max 65% dei costi totali)                                                    Requested\n(max 65% of the total costs)","Cofinanziato- Co-funded","Costi totali- Total costs"," Richiesto (max 40% dei costi totali)                                Requested\n(max 40% of the total costs)","Cofinanziato- Co-funded"]
[null,"…",{"v":0,"d":"0.00"},{"v":0,"d":"0.00"},{"v":0,"d":"0.00"},{"v":0,"d":"0.00"},{"v":0,"d":"0.00"},{"v":0,"d":"0.00"},{"$f":"SUM(C83+F83)","v":{"v":0,"d":"0.00"}},{"v":0,"d":"0.00"}]
[null,"…",{"v":0,"d":"0.00"},{"v":0,"d":"0.00"},{"v":0,"d":"0.00"},{"v":0,"d":"0.00"},{"v":0,"d":"0.00"},{"v":0,"d":"0.00"},{"v":0,"d":"0.00"},{"v":0,"d":"0.00"}]
[null,"Aggiungere righe se necessario- Add rows if necessary",{"v":0,"d":"0.00"},{"v":0,"d":"0.00"},{"v":0,"d":"0.00"},{"v":0,"d":"0.00"},{"v":0,"d":"0.00"},{"v":0,"d":"0.00"},{"v":0,"d":"0.00"},{"v":0,"d":"0.00"}]
[null,"TOTALE- TOTAL",{"$f":"SUM(C83:C85)","v":{"v":0,"d":"0.00"}},{"$f":"SUM(D83:D85)","v":{"v":0,"d":"0.00"}},{"v":0,"d":"0.00"},{"v":0,"d":"0.00"},{"v":0,"d":"0.00"},{"v":0,"d":"0.00"},{"v":0,"d":"0.00"},{"v":0,"d":"0.00"}]
[]
[null,"Specificate- Specify"]
[]
[]
[]
[null,"Commenti aggiuntivi- Additional comments"]

{"sheet":"Partner 2","index":4,"n_rows":92,"n_cols":14,"rows_kept":92,"merged":[[3,1,4,1],[3,2,3,4],[3,5,3,7],[3,8,4,8],[3,9,4,9],[15,2,15,4],[15,5,15,7],[15,8,16,8],[15,9,16,9],[22,1,22,9],[23,1,23,9],[25,6,25,8],[25,9,25,11],[25,12,26,12],[25,13,26,13],[35,1,35,9],[37,6,37,8],[37,9,37,11],[37,12,38,12],[37,13,38,13],[47,1,47,9],[49,2,49,4],[49,5,49,7],[49,8,50,8],[49,9,50,9],[56,1,56,9],[57,1,57,9],[59,2,59,4],[59,5,59,7],[59,8,60,8],[59,9,60,9],[67,1,67,9],[69,2,69,4],[69,5,69,7],[69,8,70,8],[69,9,70,9],[77,1,77,9],[80,2,80,4],[80,5,80,7],[80,8,81,8],[80,9,81,9],[88,1,88,9],[92,1,92,9]]}
[null,"NOME dell'Organizzazione- Organization NAME","Ruolo nel progetto- Role in the project"]
[null,"/","Partner 2"]
[]
[null,"COSTI ELEGIBILI- ELIGIBLE COSTS","Ricerca industriale - Industrial research",null,null,"Sviluppo sperimentale- Experimental development ",null,null," Budget totale (€)-                Overall budget (€)","Contributo richiesto (€)- Requested grant (€)\n"]
[null,null,"Costi totali- Total costs"," Richiesto (max 65% dei costi totali)                                                    Requested\n(max 65% of the total costs)","Cofinanziato- Co-funded","Costi totali- Total costs"," Richiesto (max 40% dei costi totali)                                Requested\n(max 40% of the total costs)","Cofinanziato- Co-funded"]
[null,"A03-Acquisto di arredi e attrezzature - Equipment and software",{"$f":"C21","v":{"v":0,"d":"0.00"}},{"v":0,"d":"0.00"},{"v":0,"d":"0.00"},{"v":0,"d":"0.00"},{"v":0,"d":"0.00"},{"v":0,"d":"0.00"},{"v":0,"d":"0.00"},{"v":0,"d":"0.00"}]
[null,"A05-Personale strutturato- Permanent staff",{"$f":"G33","v":{"v":0,"d":"0.00"}},{"$f":"H33","v":{"v":0,"d":"0.00"}},{"$f":"I33","v":{"v":0,"d":"0.00"}},{"v":0,"d":"0.00"},{"v":0,"d":"0.00"},{"v":0,"d":"0.00"},{"v":0,"d":"0.00"},{"v":0,"d":"0.00"}]
[null,"A06- Personale non strutturato- Temporary staff (e.g. PhDs, fellowship)",{"$f":"G45","v":{"v":0,"d":"0.00"}},{"$f":"H45","v":{"v":0,"d":"0.00"}},{"v":0,"d":"0.00"},{"v":0,"d":"0.00"},{"v":0,"d":"0.00"},{"v":0,"d":"0.00"},{"v":0,"d":"0.00"},{"v":0,"d":"0.00"}]
[null,"A07-Prestazioni professionali di terzi - Sub-contractors and consultants",{"$f":"C55","v":{"v":0,"d":"0.00"}},{"$f":"D55","v":{"v":0,"d":"0.00"}},{"v":0,"d":"0.00"},{"v":0,"d":"0.00"},{"v":0,"d":"0.00"},{"v":0,"d":"0.00"},{"v":0,"d":"0.00"},{"v":0,"d":"0.00"}]
[null,"A08-Materiali di consumo - Materials and supplies",{"$f":"C65","v":{"v":0,"d":"0.00"}},{"$f":"D65","v":{"v":0,"d":"0.00"}},{"v":0,"d":"0.00"},{"v":0,"d":"0.00"},{"v":0,"d":"0.00"},{"v":0,"d":"0.00"},{"v":0,"d":"0.00"},{"v":0,"d":"0.00"}]
[null,"A09-Spese correnti (questa voce non può superare il 10% dei costi per personale strutturato e non strutturato) - Overheads (this entry cannot exceed 10% of the permament and temporary staff costs) ",{"$f":"C75","v":{"v":0,"d":"0.00"}},{"$f":"D75","v":{"v":0,"d":"0.00"}},{"v":0,"d":"0.00"},{"v":0,"d":"0.00"},{"v":0,"d":"0.00"},{"v":0,"d":"0.00"},{"v":0,"d":"0.00"},{"v":0,"d":"0.00"}]
[null,"A10-Altre spese gestionali - Other costs",{"$f":"C86","v":{"v":0,"d":"0.00"}},{"$f":"D86","v":{"v":0,"d":"0.00"}},{"v":0,"d":"0.00"},{"v":0,"d":"0.00"},{"v":0,"d":"0.00"},{"v":0,"d":"0.00"},{"v":0,"d":"0.00"},{"v":0,"d":"0.00"}]
[null,"TOTALE- TOTAL",{"$f":"SUM(C6:C12)","v":{"v":0,"d":"0.00"}},{"$f":"SUM(D6:D12)","v":{"v":0,"d":"0.00"}},{"v":0,"d":"0.00"},{"v":0,"d":"0.00"},{"v":0,"d":"0.00"},{"v":0,"d":"0.00"},{"v":0,"d":"0.00"},{"v":0,"d":"0.00"}]
[]
[]
[null,"A03-Acquisto di arredi e attrezzature - Equipment and software","Ricerca industriale - Industrial research",null,null,"Sviluppo sperimentale- Experimental development ",null,null," Budget totale (€)-                Overall budget (€)","Contributo richiesto (€)- Requested grant (€)\n"]
[null,"Descrizione- Description","Costi totali- Total costs"," Richiesto (max 65% dei costi totali)                                                    Requested\n(max 65% of the total costs)","Cofinanziato- Co-funded","Costi totali- Total costs"," Richiesto (max 40% dei costi totali)                                Requested\n(max 40% of the total costs)","Cofinanziato- Co-funded"]
[null,"…",{"v":0,"d":"0.00"},{"v":0,"d":"0.00"},{"v":0,"d":"0.00"},{"v":0,"d":"0.00"},{"v":0,"d":"0.00"},{"v":0,"d":"0.00"},{"$f":"SUM(C18+F18)","v":{"v":0,"d":"0.00"}},{"$f":"SUM(D18+G18)","v":{"v":0,"d":"0.00"}}]
[null,"Ad esempio- Spettrofotometro e.g.Spectrophotometer",{"v":0,"d":"0.00"},{"v":0,"d":"0.00"},{"v":0,"d":"0.00"},{"v":0,"d":"0.00"},{"v":0,"d":"0.00"},{"v":0,"d":"0.00"},{"$f":"SUM(C19+F19)","v":{"v":0,"d":"0.00"}},{"v":0,"d":"0.00"}]
[null,"Aggiungere righe se necessario- Add rows if necessary",{"v":0,"d":"0.00"},{"v":0,"d":"0.00"},{"v":0,"d":"0.00"},{"v":0,"d":"0.00"},{"v":0,"d":"0.00"},{"v":0,"d":"0.00"},{"v":0,"d":"0.00"},{"v":0,"d":"0.00"}]
[null,"TOTALE- TOTAL",{"$f":"SUM(C18:C20)","v":{"v":0,"d":"0.00"}},{"$f":"SUM(D18:D20)","v":{"v":0,"d":"0.00"}},{"v":0,"d":"0.00"},{"v":0,"d":"0.00"},{"v":0,"d":"0.00"},{"v":0,"d":"0.00"},{"$f":"SUM(C21+F21)","v":{"v":0,"d":"0.00"}},{"$f":"SUM(D21+G21)","v":{"v":0,"d":"0.00"}}]
[]
[null,"Descrivete in dettaglio gli arredi, attrezzature e software e il costo totale (allegando anche specifici preventivi). Considerate che solo l' ammortamento per nuovi arredi, attrezzature e software sarà considerato come costo elegibile.                                                       Describe in detail the required equipment/software and the total costs (attach specific estimate of costs). Consider that only depreciation for new equipment and software is recognized as an eligible cost"]
[]
[]
[null,"A05 - Personale strutturato (incluso il nuovo personale ingaggiato)-                         Permanent staff (new personnel hired included)",{"$nulls":4},"Ricerca industriale - Industrial research",null,null,"Sviluppo sperimentale- Experimental development ",null,null," Budget totale (€)-                Overall budget (€)","Contributo richiesto (€)- Requested grant (€)\n"]
[null,"Nome- Name","Ruolo nel progetto (Wp/ tasks)                                Role in the project (Wps/tasks)","Impegno nel progetto (mesi uomo)- Effort (Person months)","Salario base annuale (€)         Annual Base Salary (€)","Ruolo all'interno dell'organizzazione            Role in the organization","Costi totali- Total costs"," Richiesto (max 65% dei costi totali)                                                    Requested\n(max 65% of the total costs)","Cofinanziato- Co-funded","Costi totali- Total costs"," Richiesto (max 40% dei costi totali)                                Requested\n(max 40% of the total costs)","Cofinanziato- Co-funded"]
[null,"…",null,null,{"v":0,"d":"0.00"},null,{"v":0,"d":"0.00"},{"v":0,"d":"0.00"},{"v":0,"d":"0.00"},{"v":0,"d":"0.00"},{"v":0,"d":"0.00"},{"v":0,"d":"0.00"},{"$f":"SUM(G28+J28)","v":{"v":0,"d":"0.00"}},{"$f":"SUM(H28+K28)","v":{"v":0,"d":"0.00"}}]
[null,"…",null,null,{"v":0,"d":"0.00"},null,{"v":0,"d":"0.00"},{"v":0,"d":"0.00"},{"v":0,"d":"0.00"},{"v":0,"d":"0.00"},{"v":0,"d":"0.00"},{"v":0,"d":"0.00"},{"$f":"SUM(G29+J29)","v":{"v":0,"d":"0.00"}},{"v":0,"d":"0.00"}]
[null,"…",null,null,{"v":0,"d":"0.00"},null,{"v":0,"d":"0.00"},{"v":0,"d":"0.00"},{"v":0,"d":"0.00"},{"v":0,"d":"0.00"},{"v":0,"d":"0.00"},{"v":0,"d":"0.00"},{"v":0,"d":"0.00"},{"v":0,"d":"0.00"}]
[null,"…",null,null,{"v":0,"d":"0.00"},null,{"v":0,"d":"0.00"},{"v":0,"d":"0.00"},{"v":0,"d":"0.00"},{"v":0,"d":"0.00"},{"v":0,"d":"0.00"},{"v":0,"d":"0.00"},{"v":0,"d":"0.00"},{"v":0,"d":"0.00"}]
[null,"Aggiungere righe se necessario- Add rows if necessary",null,null,{"v":0,"d":"0.00"},null,{"v":0,"d":"0.00"},{"v":0,"d":"0.00"},{"v":0,"d":"0.00"},{"v":0,"d":"0.00"},{"v":0,"d":"0.00"},{"v":0,"d":"0.00"},{"v":0,"d":"0.00"},{"v":0,"d":"0.00"}]
[null,"TOTALE- TOTAL",{"$nulls":4},{"$f":"SUM(G28:G32)","v":{"v":0,"d":"0.00"}},{"$f":"SUM(H28:H32)","v":{"v":0,"d":"0.00"}},{"v":0,"d":"0.00"},{"v":0,"d":"0.00"},{"v":0,"d":"0.00"},{"v":0,"d":"0.00"},{"$f":"SUM(M28:M32)","v":{"v":0,"d":"0.00"}},{"$f":"SUM(N28:N32)","v":{"v":0,"d":"0.00"}}]
[]
[null,"Chiarite con tutte le informazioni necessarie- Clarify with all necessary informations"]
[]
[]
[null,"A06 - Personale non strutturato (incluso il nuovo personale ingaggiato)-                         Temporary staff (new personnel hired included)",{"$nulls":4},"Ricerca industriale - Industrial research",null,null,"Sviluppo sperimentale- Experimental development ",null,null," Budget totale (€)-                Overall budget (€)","Contributo richiesto (€)- Requested grant (€)\n"]
[null,"Nome- Name","Ruolo nel progetto (Wp/ tasks)                                Role in the project (Wps/tasks)","Impegno nel progetto (mesi uomo)- Effort (Person months)","Salario base annuale (€)         Annual Base Salary (€)","Ruolo all'interno dell'organizzazione            Role in the organization","Costi totali- Total costs"," Richiesto (max 65% dei costi totali)                                                    Requested\n(max 65% of the total costs)","Cofinanziato- Co-funded","Costi totali- Total costs"," Richiesto (max 40% dei costi totali)                                Requested\n(max 40% of the total costs)","Cofinanziato- Co-funded"]
[null,"…",null,null,{"v":0,"d":"0.00"},null,{"v":0,"d":"0.00"},{"v":0,"d":"0.00"},{"v":0,"d":"0.00"},{"v":0,"d":"0.00"},{"v":0,"d":"0.00"},{"v":0,"d":"0.00"},{"$f":"SUM(G40+J40)","v":{"v":0,"d":"0.00"}},{"$f":"SUM(H40+K40)","v":{"v":0,"d":"0.00"}}]
[null,"…",null,null,{"v":0,"d":"0.00"},null,{"v":0,"d":"0.00"},{"v":0,"d":"0.00"},{"v":0,"d":"0.00"},{"v":0,"d":"0.00"},{"v":0,"d":"0.00"},{"v":0,"d":"0.00"},{"$f":"SUM(G41+J41)","v":{"v":0,"d":"0.00"}},{"v":0,"d":"0.00"}]
[null,"…",null,null,{"v":0,"d":"0.00"},null,{"v":0,"d":"0.00"},{"v":0,"d":"0.00"},{"v":0,"d":"0.00"},{"v":0,"d":"0.00"},{"v":0,"d":"0.00"},{"v":0,"d":"0.00"},{"v":0,"d":"0.00"},{"v":0,"d":"0.00"}]
[null,"…",null,null,{"v":0,"d":"0.00"},null,{"v":0,"d":"0.00"},{"v":0,"d":"0.00"},{"v":0,"d":"0.00"},{"v":0,"d":"0.00"},{"v":0,"d":"0.00"},{"v":0,"d":"0.00"},{"v":0,"d":"0.00"},{"v":0,"d":"0.00"}]
[null,"Aggiungere righe se necessario- Add rows if necessary",null,null,{"v":0,"d":"0.00"},null,{"v":0,"d":"0.00"},{"v":0,"d":"0.00"},{"v":0,"d":"0.00"},{"v":0,"d":"0.00"},{"v":0,"d":"0.00"},{"v":0,"d":"0.00"},{"v":0,"d":"0.00"},{"v":0,"d":"0.00"}]
[null,"TOTALE- TOTAL",{"$nulls":4},{"$f":"SUM(G40:G44)","v":{"v":0,"d":"0.00"}},{"$f":"SUM(H40:H44)","v":{"v":0,"d":"0.00"}},{"v":0,"d":"0.00"},{"v":0,"d":"0.00"},{"v":0,"d":"0.00"},{"v":0,"d":"0.00"},{"$f":"SUM(M40:M44)","v":{"v":0,"d":"0.00"}},{"$f":"SUM(N40:N44)","v":{"v":0,"d":"0.00"}}]
[]
[null,"Chiarite con tutte le informazioni necessarie- Clarify with all necessary informations"]
[]
[]
[null,"A07 - Prestazioni professionali di terzi - Sub-contractors and consultants","Ricerca industriale - Industrial research",null,null,"Sviluppo sperimentale- Experimental development ",null,null," Budget totale (€)-                Overall budget (€)","Contributo richiesto (€)- Requested grant (€)\n"]
[null,"Nome e affiliazione -Name & affiliation","Costi totali- Total costs"," Richiesto (max 65% dei costi totali)                                                    Requested\n(max 65% of the total costs)","Cofinanziato- Co-funded","Costi totali- Total costs"," Richiesto (max 40% dei costi totali)                                Requested\n(max 40% of the total costs)","Cofinanziato- Co-funded"]
[null,"…",{"v":0,"d":"0.00"},{"v":0,"d":"0.00"},{"v":0,"d":"0.00"},{"v":0,"d":"0.00"},{"v":0,"d":"0.00"},{"v":0,"d":"0.00"},{"$f":"SUM(C52+F52)","v":{"v":0,"d":"0.00"}},{"$f":"SUM(D52+G52)","v":{"v":0,"d":"0.00"}}]
[null,"Costi per audit- audit Costs",{"v":0,"d":"0.00"},{"v":0,"d":"0.00"},{"v":0,"d":"0.00"},{"v":0,"d":"0.00"},{"v":0,"d":"0.00"},{"v":0,"d":"0.00"},{"$f":"SUM(C53+F53)","v":{"v":0,"d":"0.00"}},{"v":0,"d":"0.00"}]
[null,"Aggiungere righe se necessario- Add rows if necessary",{"v":0,"d":"0.00"},{"v":0,"d":"0.00"},{"v":0,"d":"0.00"},{"v":0,"d":"0.00"},{"v":0,"d":"0.00"},{"v":0,"d":"0.00"},{"v":0,"d":"0.00"},{"v":0,"d":"0.00"}]
[null,"TOTALE- TOTAL",{"$f":"SUM(C52:C54)","v":{"v":0,"d":"0.00"}},{"$f":"SUM(D52:D54)","v":{"v":0,"d":"0.00"}},{"v":0,"d":"0.00"},{"v":0,"d":"0.00"},{"v":0,"d":"0.00"},{"v":0,"d":"0.00"},{"$f":"SUM(C55+F55)","v":{"v":0,"d":"0.00"}},{"$f":"SUM(D55+G55)","v":{"v":0,"d":"0.00"}}]
[]
[null,"Elencate i prestatori professionali di terzi e i consulenti e le loro affiliazioni, dettagliando il loro ruolo all'interno del progetto (allegando specifici preventivi).                                                                                                                                                                                List sub-contractors and consultants together with their affiliation, detail their role in the project (attach specific quotation)"]
[]
[]
[null,"A08-Materiale di consumo - Material and supplies","Ricerca industriale - Industrial research",null,null,"Sviluppo sperimentale- Experimental development ",null,null," Budget totale (€)-                Overall budget (€)","Contributo richiesto (€)- Requested grant (€)\n"]
[null,"Categorie- Categories","Costi totali- Total costs"," Richiesto (max 65% dei costi totali)                                                    Requested\n(max 65% of the total costs)","Cofinanziato- Co-funded","Costi totali- Total costs"," Richiesto (max 40% dei costi totali)                                Requested\n(max 40% of the total costs)","Cofinanziato- Co-funded"]
[null,"…",{"v":0,"d":"0.00"},{"v":0,"d":"0.00"},{"v":0,"d":"0.00"},{"v":0,"d":"0.00"},{"v":0,"d":"0.00"},{"v":0,"d":"0.00"},{"$f":"SUM(C62+F62)","v":{"v":0,"d":"0.00"}},{"$f":"SUM(D62+G62)","v":{"v":0,"d":"0.00"}}]
[null,"…",{"v":0,"d":"0.00"},{"v":0,"d":"0.00"},{"v":0,"d":"0.00"},{"v":0,"d":"0.00"},{"v":0,"d":"0.00"},{"v":0,"d":"0.00"},{"v":0,"d":"0.00"},{"$f":"SUM(D63+G63)","v":{"v":0,"d":"0.00"}}]
[null,"Aggiungere righe se necessario- Add rows if necessary",{"v":0,"d":"0.00"},{"v":0,"d":"0.00"},{"v":0,"d":"0.00"},{"v":0,"d":"0.00"},{"v":0,"d":"0.00"},{"v":0,"d":"0.00"},{"v":0,"d":"0.00"},{"$f":"SUM(D64+G64)","v":{"v":0,"d":"0.00"}}]
[null,"TOTALE- TOTAL",{"$f":"SUM(C62:C64)","v":{"v":0,"d":"0.00"}},{"$f":"SUM(D62:D64)","v":{"v":0,"d":"0.00"}},{"v":0,"d":"0.00"},{"v":0,"d":"0.00"},{"v":0,"d":"0.00"},{"v":0,"d":"0.00"},{"v":0,"d":"0.00"},{"v":0,"d":"0.00"}]
[]
[null,"Specificate quantità e tipologie- Specify quantity and quality "]
[]
[]
[null,"A09-Spese correnti (non oltre il 10% dei costi per personale strutturato e non strutturato) - Overheads (this entry cannot exceed 10% of the permament and temporary staff costs) ","Ricerca industriale - Industrial research",null,null,"Sviluppo sperimentale- Experimental development ",null,null," Budget totale (€)-                Overall budget (€)","Contributo richiesto (€)- Requested grant (€)\n"]
[null,"Descrizione- Description","Costi totali- Total costs"," Richiesto (max 65% dei costi totali)                                                    Requested\n(max 65% of the total costs)","Cofinanziato- Co-funded","Costi totali- Total costs"," Richiesto (max 40% dei costi totali)                                Requested\n(max 40% of the total costs)","Cofinanziato- Co-funded"]
[null,"…",{"v":0,"d":"0.00"},{"v":0,"d":"0.00"},{"v":0,"d":"0.00"},{"v":0,"d":"0.00"},{"v":0,"d":"0.00"},{"v":0,"d":"0.00"},{"$f":"SUM(C72+F72)","v":{"v":0,"d":"0.00"}},{"v":0,"d":"0.00"}]
[null,"…",{"v":0,"d":"0.00"},{"v":0,"d":"0.00"},{"v":0,"d":"0.00"},{"v":0,"d":"0.00"},{"v":0,"d":"0.00"},{"v":0,"d":"0.00"},{"v":0,"d":"0.00"},{"v":0,"d":"0.00"}]
[null,"Aggiungere righe se necessario- Add rows if necessary",{"v":0,"d":"0.00"},{"v":0,"d":"0.00"},{"v":0,"d":"0.00"},{"v":0,"d":"0.00"},{"v":0,"d":"0.00"},{"v":0,"d":"0.00"},{"v":0,"d":"0.00"},{"v":0,"d":"0.00"}]
[null,"TOTALE- TOTAL",{"$f":"SUM(C72:C74)","v":{"v":0,"d":"0.00"}},{"$f":"SUM(D72:D74)","v":{"v":0,"d":"0.00"}},{"v":0,"d":"0.00"},{"v":0,"d":"0.00"},{"v":0,"d":"0.00"},{"v":0,"d":"0.00"},{"v":0,"d":"0.00"},{"v":0,"d":"0.00"}]
[]
[null,"Specificate- Specify"]
[]
[]
[]
[null,"A10 - Altre spese gestionali- Other costs","Ricerca industriale - Industrial research",null,null,"Sviluppo sperimentale- Experimental development ",null,null," Budget totale (€)-                Overall budget (€)","Contributo richiesto (€)- Requested grant (€)\n"]
[null,"Descrizione- Description","Costi totali- Total costs"," Richiesto (max 65% dei costi totali)                                                    Requested\n(max 65% of the total costs)","Cofinanziato- Co-funded","Costi totali- Total costs"," Richiesto (max 40% dei costi totali)                                Requested\n(max 40% of the total costs)","Cofinanziato- Co-funded"]
[null,"…",{"v":0,"d":"0.00"},{"v":0,"d":"0.00"},{"v":0,"d":"0.00"},{"v":0,"d":"0.00"},{"v":0,"d":"0.00"},{"v":0,"d":"0.00"},{"$f":"SUM(C83+F83)","v":{"v":0,"d":"0.00"}},{"v":0,"d":"0.00"}]
[null,"…",{"v":0,"d":"0.00"},{"v":0,"d":"0.00"},{"v":0,"d":"0.00"},{"v":0,"d":"0.00"},{"v":0,"d":"0.00"},{"v":0,"d":"0.00"},{"v":0,"d":"0.00"},{"v":0,"d":"0.00"}]
[null,"Aggiungere righe se necessario- Add rows if necessary",{"v":0,"d":"0.00"},{"v":0,"d":"0.00"},{"v":0,"d":"0.00"},{"v":0,"d":"0.00"},{"v":0,"d":"0.00"},{"v":0,"d":"0.00"},{"v":0,"d":"0.00"},{"v":0,"d":"0.00"}]
[null,"TOTALE- TOTAL",{"$f":"SUM(C83:C85)","v":{"v":0,"d":"0.00"}},{"$f":"SUM(D83:D85)","v":{"v":0,"d":"0.00"}},{"v":0,"d":"0.00"},{"v":0,"d":"0.00"},{"v":0,"d":"0.00"},{"v":0,"d":"0.00"},{"v":0,"d":"0.00"},{"v":0,"d":"0.00"}]
[]
[null,"Specificate- Specify"]
[]
[]
[]
[null,"Commenti aggiuntivi- Additional comments"]

{"sheet":"Partner 3","index":5,"n_rows":92,"n_cols":14,"rows_kept":92,"merged":[[3,1,4,1],[3,2,3,4],[3,5,3,7],[3,8,4,8],[3,9,4,9],[15,2,15,4],[15,5,15,7],[15,8,16,8],[15,9,16,9],[22,1,22,9],[23,1,23,9],[25,6,25,8],[25,9,25,11],[25,12,26,12],[25,13,26,13],[35,1,35,9],[37,6,37,8],[37,9,37,11],[37,12,38,12],[37,13,38,13],[47,1,47,9],[49,2,49,4],[49,5,49,7],[49,8,50,8],[49,9,50,9],[56,1,56,9],[57,1,57,9],[59,2,59,4],[59,5,59,7],[59,8,60,8],[59,9,60,9],[67,1,67,9],[69,2,69,4],[69,5,69,7],[69,8,70,8],[69,9,70,9],[77,1,77,9],[80,2,80,4],[80,5,80,7],[80,8,81,8],[80,9,81,9],[88,1,88,9],[92,1,92,9]]}
[null,"NOME dell'Organizzazione- Organization NAME","Ruolo nel progetto- Role in the project"]
[null,"/","Partner 3"]
[]
[null,"COSTI ELEGIBILI- ELIGIBLE COSTS","Ricerca industriale - Industrial research",null,null,"Sviluppo sperimentale- Experimental development ",null,null," Budget totale (€)-                Overall budget (€)","Contributo richiesto (€)- Requested grant (€)\n"]
[null,null,"Costi totali- Total costs"," Richiesto (max 65% dei costi totali)                                                    Requested\n(max 65% of the total costs)","Cofinanziato- Co-funded","Costi totali- Total costs"," Richiesto (max 40% dei costi totali)                                Requested\n(max 40% of the total costs)","Cofinanziato- Co-funded"]
[null,"A03-Acquisto di arredi e attrezzature - Equipment and software",{"$f":"C21","v":{"v":0,"d":"0.00"}},{"v":0,"d":"0.00"},{"v":0,"d":"0.00"},{"v":0,"d":"0.00"},{"v":0,"d":"0.00"},{"v":0,"d":"0.00"},{"v":0,"d":"0.00"},{"v":0,"d":"0.00"}]
[null,"A05-Personale strutturato- Permanent staff",{"$f":"G33","v":{"v":0,"d":"0.00"}},{"$f":"H33","v":{"v":0,"d":"0.00"}},{"$f":"I33","v":{"v":0,"d":"0.00"}},{"v":0,"d":"0.00"},{"v":0,"d":"0.00"},{"v":0,"d":"0.00"},{"v":0,"d":"0.00"},{"v":0,"d":"0.00"}]
[null,"A06- Personale non strutturato- Temporary staff (e.g. PhDs, fellowship)",{"$f":"G45","v":{"v":0,"d":"0.00"}},{"$f":"H45","v":{"v":0,"d":"0.00"}},{"v":0,"d":"0.00"},{"v":0,"d":"0.00"},{"v":0,"d":"0.00"},{"v":0,"d":"0.00"},{"v":0,"d":"0.00"},{"v":0,"d":"0.00"}]
[null,"A07-Prestazioni professionali di terzi - Sub-contractors and consultants",{"$f":"C55","v":{"v":0,"d":"0.00"}},{"$f":"D55","v":{"v":0,"d":"0.00"}},{"v":0,"d":"0.00"},{"v":0,"d":"0.00"},{"v":0,"d":"0.00"},{"v":0,"d":"0.00"},{"v":0,"d":"0.00"},{"v":0,"d":"0.00"}]
[null,"A08-Materiali di consumo - Materials and supplies",{"$f":"C65","v":{"v":0,"d":"0.00"}},{"$f":"D65","v":{"v":0,"d":"0.00"}},{"v":0,"d":"0.00"},{"v":0,"d":"0.00"},{"v":0,"d":"0.00"},{"v":0,"d":"0.00"},{"v":0,"d":"0.00"},{"v":0,"d":"0.00"}]
[null,"A09-Spese correnti (questa voce non può superare il 10% dei costi per personale strutturato e non strutturato) - Overheads (this entry cannot exceed 10% of the permament and temporary staff costs) ",{"$f":"C75","v":{"v":0,"d":"0.00"}},{"$f":"D75","v":{"v":0,"d":"0.00"}},{"v":0,"d":"0.00"},{"v":0,"d":"0.00"},{"v":0,"d":"0.00"},{"v":0,"d":"0.00"},{"v":0,"d":"0.00"},{"v":0,"d":"0.00"}]
[null,"A10-Altre spese gestionali - Other costs",{"$f":"C86","v":{"v":0,"d":"0.00"}},{"$f":"D86","v":{"v":0,"d":"0.00"}},{"v":0,"d":"0.00"},{"v":0,"d":"0.00"},{"v":0,"d":"0.00"},{"v":0,"d":"0.00"},{"v":0,"d":"0.00"},{"v":0,"d":"0.00"}]
[null,"TOTALE- TOTAL",{"$f":"SUM(C6:C12)","v":{"v":0,"d":"0.00"}},{"$f":"SUM(D6:D12)","v":{"v":0,"d":"0.00"}},{"v":0,"d":"0.00"},{"v":0,"d":"0.00"},{"v":0,"d":"0.00"},{"v":0,"d":"0.00"},{"v":0,"d":"0.00"},{"v":0,"d":"0.00"}]
[]
[]
[null,"A03-Acquisto di arredi e attrezzature - Equipment and software","Ricerca industriale - Industrial research",null,null,"Sviluppo sperimentale- Experimental development ",null,null," Budget totale (€)-                Overall budget (€)","Contributo richiesto (€)- Requested grant (€)\n"]
[null,"Descrizione- Description","Costi totali- Total costs"," Richiesto (max 65% dei costi totali)                                                    Requested\n(max 65% of the total costs)","Cofinanziato- Co-funded","Costi totali- Total costs"," Richiesto (max 40% dei costi totali)                                Requested\n(max 40% of the total costs)","Cofinanziato- Co-funded"]
[null,"…",{"v":0,"d":"0.00"},{"v":0,"d":"0.00"},{"v":0,"d":"0.00"},{"v":0,"d":"0.00"},{"v":0,"d":"0.00"},{"v":0,"d":"0.00"},{"$f":"SUM(C18+F18)","v":{"v":0,"d":"0.00"}},{"$f":"SUM(D18+G18)","v":{"v":0,"d":"0.00"}}]
[null,"Ad esempio- Spettrofotometro e.g.Spectrophotometer",{"v":0,"d":"0.00"},{"v":0,"d":"0.00"},{"v":0,"d":"0.00"},{"v":0,"d":"0.00"},{"v":0,"d":"0.00"},{"v":0,"d":"0.00"},{"$f":"SUM(C19+F19)","v":{"v":0,"d":"0.00"}},{"v":0,"d":"0.00"}]
[null,"Aggiungere righe se necessario- Add rows if necessary",{"v":0,"d":"0.00"},{"v":0,"d":"0.00"},{"v":0,"d":"0.00"},{"v":0,"d":"0.00"},{"v":0,"d":"0.00"},{"v":0,"d":"0.00"},{"v":0,"d":"0.00"},{"v":0,"d":"0.00"}]
[null,"TOTALE- TOTAL",{"$f":"SUM(C18:C20)","v":{"v":0,"d":"0.00"}},{"$f":"SUM(D18:D20)","v":{"v":0,"d":"0.00"}},{"v":0,"d":"0.00"},{"v":0,"d":"0.00"},{"v":0,"d":"0.00"},{"v":0,"d":"0.00"},{"$f":"SUM(C21+F21)","v":{"v":0,"d":"0.00"}},{"$f":"SUM(D21+G21)","v":{"v":0,"d":"0.00"}}]
[]
[null,"Descrivete in dettaglio gli arredi, attrezzature e software e il costo totale (allegando anche specifici preventivi). Considerate che solo l' ammortamento per nuovi arredi, attrezzature e software sarà considerato come costo elegibile.                                                       Describe in detail the required equipment/software and the total costs (attach specific estimate of costs). Consider that only depreciation for new equipment and software is recognized as an eligible cost"]
[]
[]
[null,"A05 - Personale strutturato (incluso il nuovo personale ingaggiato)-                         Permanent staff (new personnel hired included)",{"$nulls":4},"Ricerca industriale - Industrial research",null,null,"Sviluppo sperimentale- Experimental development ",null,null," Budget totale (€)-                Overall budget (€)","Contributo richiesto (€)- Requested grant (€)\n"]
[null,"Nome- Name","Ruolo nel progetto (Wp/ tasks)                                Role in the project (Wps/tasks)","Impegno nel progetto (mesi uomo)- Effort (Person months)","Salario base annuale (€)         Annual Base Salary (€)","Ruolo all'interno dell'organizzazione            Role in the organization","Costi totali- Total costs"," Richiesto (max 65% dei costi totali)                                                    Requested\n(max 65% of the total costs)","Cofinanziato- Co-funded","Costi totali- Total costs"," Richiesto (max 40% dei costi totali)                                Requested\n(max 40% of the total costs)","Cofinanziato- Co-funded"]
[null,"…",null,null,{"v":0,"d":"0.00"},null,{"v":0,"d":"0.00"},{"v":0,"d":"0.00"},{"v":0,"d":"0.00"},{"v":0,"d":"0.00"},{"v":0,"d":"0.00"},{"v":0,"d":"0.00"},{"$f":"SUM(G28+J28)","v":{"v":0,"d":"0.00"}},{"$f":"SUM(H28+K28)","v":{"v":0,"d":"0.00"}}]
[null,"…",null,null,{"v":0,"d":"0.00"},null,{"v":0,"d":"0.00"},{"v":0,"d":"0.00"},{"v":0,"d":"0.00"},{"v":0,"d":"0.00"},{"v":0,"d":"0.00"},{"v":0,"d":"0.00"},{"$f":"SUM(G29+J29)","v":{"v":0,"d":"0.00"}},{"v":0,"d":"0.00"}]
[null,"…",null,null,{"v":0,"d":"0.00"},null,{"v":0,"d":"0.00"},{"v":0,"d":"0.00"},{"v":0,"d":"0.00"},{"v":0,"d":"0.00"},{"v":0,"d":"0.00"},{"v":0,"d":"0.00"},{"v":0,"d":"0.00"},{"v":0,"d":"0.00"}]
[null,"…",null,null,{"v":0,"d":"0.00"},null,{"v":0,"d":"0.00"},{"v":0,"d":"0.00"},{"v":0,"d":"0.00"},{"v":0,"d":"0.00"},{"v":0,"d":"0.00"},{"v":0,"d":"0.00"},{"v":0,"d":"0.00"},{"v":0,"d":"0.00"}]
[null,"Aggiungere righe se necessario- Add rows if necessary",null,null,{"v":0,"d":"0.00"},null,{"v":0,"d":"0.00"},{"v":0,"d":"0.00"},{"v":0,"d":"0.00"},{"v":0,"d":"0.00"},{"v":0,"d":"0.00"},{"v":0,"d":"0.00"},{"v":0,"d":"0.00"},{"v":0,"d":"0.00"}]
[null,"TOTALE- TOTAL",{"$nulls":4},{"$f":"SUM(G28:G32)","v":{"v":0,"d":"0.00"}},{"$f":"SUM(H28:H32)","v":{"v":0,"d":"0.00"}},{"v":0,"d":"0.00"},{"v":0,"d":"0.00"},{"v":0,"d":"0.00"},{"v":0,"d":"0.00"},{"$f":"SUM(M28:M32)","v":{"v":0,"d":"0.00"}},{"$f":"SUM(N28:N32)","v":{"v":0,"d":"0.00"}}]
[]
[null,"Chiarite con tutte le informazioni necessarie- Clarify with all necessary informations"]
[]
[]
[null,"A06 - Personale non strutturato (incluso il nuovo personale ingaggiato)-                         Temporary staff (new personnel hired included)",{"$nulls":4},"Ricerca industriale - Industrial research",null,null,"Sviluppo sperimentale- Experimental development ",null,null," Budget totale (€)-                Overall budget (€)","Contributo richiesto (€)- Requested grant (€)\n"]
[null,"Nome- Name","Ruolo nel progetto (Wp/ tasks)                                Role in the project (Wps/tasks)","Impegno nel progetto (mesi uomo)- Effort (Person months)","Salario base annuale (€)         Annual Base Salary (€)","Ruolo all'interno dell'organizzazione            Role in the organization","Costi totali- Total costs"," Richiesto (max 65% dei costi totali)                                                    Requested\n(max 65% of the total costs)","Cofinanziato- Co-funded","Costi totali- Total costs"," Richiesto (max 40% dei costi totali)                                Requested\n(max 40% of the total costs)","Cofinanziato- Co-funded"]
[null,"…",null,null,{"v":0,"d":"0.00"},null,{"v":0,"d":"0.00"},{"v":0,"d":"0.00"},{"v":0,"d":"0.00"},{"v":0,"d":"0.00"},{"v":0,"d":"0.00"},{"v":0,"d":"0.00"},{"$f":"SUM(G40+J40)","v":{"v":0,"d":"0.00"}},{"$f":"SUM(H40+K40)","v":{"v":0,"d":"0.00"}}]
[null,"…",null,null,{"v":0,"d":"0.00"},null,{"v":0,"d":"0.00"},{"v":0,"d":"0.00"},{"v":0,"d":"0.00"},{"v":0,"d":"0.00"},{"v":0,"d":"0.00"},{"v":0,"d":"0.00"},{"$f":"SUM(G41+J41)","v":{"v":0,"d":"0.00"}},{"v":0,"d":"0.00"}]
[null,"…",null,null,{"v":0,"d":"0.00"},null,{"v":0,"d":"0.00"},{"v":0,"d":"0.00"},{"v":0,"d":"0.00"},{"v":0,"d":"0.00"},{"v":0,"d":"0.00"},{"v":0,"d":"0.00"},{"v":0,"d":"0.00"},{"v":0,"d":"0.00"}]
[null,"…",null,null,{"v":0,"d":"0.00"},null,{"v":0,"d":"0.00"},{"v":0,"d":"0.00"},{"v":0,"d":"0.00"},{"v":0,"d":"0.00"},{"v":0,"d":"0.00"},{"v":0,"d":"0.00"},{"v":0,"d":"0.00"},{"v":0,"d":"0.00"}]
[null,"Aggiungere righe se necessario- Add rows if necessary",null,null,{"v":0,"d":"0.00"},null,{"v":0,"d":"0.00"},{"v":0,"d":"0.00"},{"v":0,"d":"0.00"},{"v":0,"d":"0.00"},{"v":0,"d":"0.00"},{"v":0,"d":"0.00"},{"v":0,"d":"0.00"},{"v":0,"d":"0.00"}]
[null,"TOTALE- TOTAL",{"$nulls":4},{"$f":"SUM(G40:G44)","v":{"v":0,"d":"0.00"}},{"$f":"SUM(H40:H44)","v":{"v":0,"d":"0.00"}},{"v":0,"d":"0.00"},{"v":0,"d":"0.00"},{"v":0,"d":"0.00"},{"v":0,"d":"0.00"},{"$f":"SUM(M40:M44)","v":{"v":0,"d":"0.00"}},{"$f":"SUM(N40:N44)","v":{"v":0,"d":"0.00"}}]
[]
[null,"Chiarite con tutte le informazioni necessarie- Clarify with all necessary informations"]
[]
[]
[null,"A07 - Prestazioni professionali di terzi - Sub-contractors and consultants","Ricerca industriale - Industrial research",null,null,"Sviluppo sperimentale- Experimental development ",null,null," Budget totale (€)-                Overall budget (€)","Contributo richiesto (€)- Requested grant (€)\n"]
[null,"Nome e affiliazione -Name & affiliation","Costi totali- Total costs"," Richiesto (max 65% dei costi totali)                                                    Requested\n(max 65% of the total costs)","Cofinanziato- Co-funded","Costi totali- Total costs"," Richiesto (max 40% dei costi totali)                                Requested\n(max 40% of the total costs)","Cofinanziato- Co-funded"]
[null,"…",{"v":0,"d":"0.00"},{"v":0,"d":"0.00"},{"v":0,"d":"0.00"},{"v":0,"d":"0.00"},{"v":0,"d":"0.00"},{"v":0,"d":"0.00"},{"$f":"SUM(C52+F52)","v":{"v":0,"d":"0.00"}},{"$f":"SUM(D52+G52)","v":{"v":0,"d":"0.00"}}]
[null,"Costi per audit- audit Costs",{"v":0,"d":"0.00"},{"v":0,"d":"0.00"},{"v":0,"d":"0.00"},{"v":0,"d":"0.00"},{"v":0,"d":"0.00"},{"v":0,"d":"0.00"},{"$f":"SUM(C53+F53)","v":{"v":0,"d":"0.00"}},{"v":0,"d":"0.00"}]
[null,"Aggiungere righe se necessario- Add rows if necessary",{"v":0,"d":"0.00"},{"v":0,"d":"0.00"},{"v":0,"d":"0.00"},{"v":0,"d":"0.00"},{"v":0,"d":"0.00"},{"v":0,"d":"0.00"},{"v":0,"d":"0.00"},{"v":0,"d":"0.00"}]
[null,"TOTALE- TOTAL",{"$f":"SUM(C52:C54)","v":{"v":0,"d":"0.00"}},{"$f":"SUM(D52:D54)","v":{"v":0,"d":"0.00"}},{"v":0,"d":"0.00"},{"v":0,"d":"0.00"},{"v":0,"d":"0.00"},{"v":0,"d":"0.00"},{"$f":"SUM(C55+F55)","v":{"v":0,"d":"0.00"}},{"$f":"SUM(D55+G55)","v":{"v":0,"d":"0.00"}}]
[]
[null,"Elencate i prestatori professionali di terzi e i consulenti e le loro affiliazioni, dettagliando il loro ruolo all'interno del progetto (allegando specifici preventivi).                                                                                                                                                                                List sub-contractors and consultants together with their affiliation, detail their role in the project (attach specific quotation)"]
[]
[]
[null,"A08-Materiale di consumo - Material and supplies","Ricerca industriale - Industrial research",null,null,"Sviluppo sperimentale- Experimental development ",null,null," Budget totale (€)-                Overall budget (€)","Contributo richiesto (€)- Requested grant (€)\n"]
[null,"Categorie- Categories","Costi totali- Total costs"," Richiesto (max 65% dei costi totali)                                                    Requested\n(max 65% of the total costs)","Cofinanziato- Co-funded","Costi totali- Total costs"," Richiesto (max 40% dei costi totali)                                Requested\n(max 40% of the total costs)","Cofinanziato- Co-funded"]
[null,"…",{"v":0,"d":"0.00"},{"v":0,"d":"0.00"},{"v":0,"d":"0.00"},{"v":0,"d":"0.00"},{"v":0,"d":"0.00"},{"v":0,"d":"0.00"},{"$f":"SUM(C62+F62)","v":{"v":0,"d":"0.00"}},{"$f":"SUM(D62+G62)","v":{"v":0,"d":"0.00"}}]
[null,"…",{"v":0,"d":"0.00"},{"v":0,"d":"0.00"},{"v":0,"d":"0.00"},{"v":0,"d":"0.00"},{"v":0,"d":"0.00"},{"v":0,"d":"0.00"},{"v":0,"d":"0.00"},{"$f":"SUM(D63+G63)","v":{"v":0,"d":"0.00"}}]
[null,"Aggiungere righe se necessario- Add rows if necessary",{"v":0,"d":"0.00"},{"v":0,"d":"0.00"},{"v":0,"d":"0.00"},{"v":0,"d":"0.00"},{"v":0,"d":"0.00"},{"v":0,"d":"0.00"},{"v":0,"d":"0.00"},{"$f":"SUM(D64+G64)","v":{"v":0,"d":"0.00"}}]
[null,"TOTALE- TOTAL",{"$f":"SUM(C62:C64)","v":{"v":0,"d":"0.00"}},{"$f":"SUM(D62:D64)","v":{"v":0,"d":"0.00"}},{"v":0,"d":"0.00"},{"v":0,"d":"0.00"},{"v":0,"d":"0.00"},{"v":0,"d":"0.00"},{"v":0,"d":"0.00"},{"v":0,"d":"0.00"}]
[]
[null,"Specificate quantità e tipologie- Specify quantity and quality "]
[]
[]
[null,"A09-Spese correnti (non oltre il 10% dei costi per personale strutturato e non strutturato) - Overheads (this entry cannot exceed 10% of the permament and temporary staff costs) ","Ricerca industriale - Industrial research",null,null,"Sviluppo sperimentale- Experimental development ",null,null," Budget totale (€)-                Overall budget (€)","Contributo richiesto (€)- Requested grant (€)\n"]
[null,"Descrizione- Description","Costi totali- Total costs"," Richiesto (max 65% dei costi totali)                                                    Requested\n(max 65% of the total costs)","Cofinanziato- Co-funded","Costi totali- Total costs"," Richiesto (max 40% dei costi totali)                                Requested\n(max 40% of the total costs)","Cofinanziato- Co-funded"]
[null,"…",{"v":0,"d":"0.00"},{"v":0,"d":"0.00"},{"v":0,"d":"0.00"},{"v":0,"d":"0.00"},{"v":0,"d":"0.00"},{"v":0,"d":"0.00"},{"$f":"SUM(C72+F72)","v":{"v":0,"d":"0.00"}},{"v":0,"d":"0.00"}]
[null,"…",{"v":0,"d":"0.00"},{"v":0,"d":"0.00"},{"v":0,"d":"0.00"},{"v":0,"d":"0.00"},{"v":0,"d":"0.00"},{"v":0,"d":"0.00"},{"v":0,"d":"0.00"},{"v":0,"d":"0.00"}]
[null,"Aggiungere righe se necessario- Add rows if necessary",{"v":0,"d":"0.00"},{"v":0,"d":"0.00"},{"v":0,"d":"0.00"},{"v":0,"d":"0.00"},{"v":0,"d":"0.00"},{"v":0,"d":"0.00"},{"v":0,"d":"0.00"},{"v":0,"d":"0.00"}]
[null,"TOTALE- TOTAL",{"$f":"SUM(C72:C74)","v":{"v":0,"d":"0.00"}},{"$f":"SUM(D72:D74)","v":{"v":0,"d":"0.00"}},{"v":0,"d":"0.00"},{"v":0,"d":"0.00"},{"v":0,"d":"0.00"},{"v":0,"d":"0.00"},{"v":0,"d":"0.00"},{"v":0,"d":"0.00"}]
[]
[null,"Specificate -Specify"]
[]
[]
[]
[null,"A10 - Altre spese gestionali- Other costs","Ricerca industriale - Industrial research",null,null,"Sviluppo sperimentale- Experimental development ",null,null," Budget totale (€)-                Overall budget (€)","Contributo richiesto (€)- Requested grant (€)\n"]
[null,"Descrizione- Description","Costi totali- Total costs"," Richiesto (max 65% dei costi totali)                                                    Requested\n(max 65% of the total costs)","Cofinanziato- Co-funded","Costi totali- Total costs"," Richiesto (max 40% dei costi totali)                                Requested\n(max 40% of the total costs)","Cofinanziato- Co-funded"]
[null,"…",{"v":0,"d":"0.00"},{"v":0,"d":"0.00"},{"v":0,"d":"0.00"},{"v":0,"d":"0.00"},{"v":0,"d":"0.00"},{"v":0,"d":"0.00"},{"$f":"SUM(C83+F83)","v":{"v":0,"d":"0.00"}},{"v":0,"d":"0.00"}]
[null,"…",{"v":0,"d":"0.00"},{"v":0,"d":"0.00"},{"v":0,"d":"0.00"},{"v":0,"d":"0.00"},{"v":0,"d":"0.00"},{"v":0,"d":"0.00"},{"v":0,"d":"0.00"},{"v":0,"d":"0.00"}]
[null,"Aggiungere righe se necessario- Add rows if necessary",{"v":0,"d":"0.00"},{"v":0,"d":"0.00"},{"v":0,"d":"0.00"},{"v":0,"d":"0.00"},{"v":0,"d":"0.00"},{"v":0,"d":"0.00"},{"v":0,"d":"0.00"},{"v":0,"d":"0.00"}]
[null,"TOTALE- TOTAL",{"$f":"SUM(C83:C85)","v":{"v":0,"d":"0.00"}},{"$f":"SUM(D83:D85)","v":{"v":0,"d":"0.00"}},{"v":0,"d":"0.00"},{"v":0,"d":"0.00"},{"v":0,"d":"0.00"},{"v":0,"d":"0.00"},{"v":0,"d":"0.00"},{"v":0,"d":"0.00"}]
[]
[null,"Specificate- Specify"]
[]
[]
[]
[null,"Commenti aggiuntivi- Additional comments"]

{"sheet":"Partner 4","index":6,"n_rows":92,"n_cols":14,"rows_kept":92,"merged":[[3,1,4,1],[3,2,3,4],[3,5,3,7],[3,8,4,8],[3,9,4,9],[15,2,15,4],[15,5,15,7],[15,8,16,8],[15,9,16,9],[22,1,22,9],[23,1,23,9],[25,6,25,8],[25,9,25,11],[25,12,26,12],[25,13,26,13],[35,1,35,9],[37,6,37,8],[37,9,37,11],[37,12,38,12],[37,13,38,13],[47,1,47,9],[49,2,49,4],[49,5,49,7],[49,8,50,8],[49,9,50,9],[56,1,56,9],[57,1,57,9],[59,2,59,4],[59,5,59,7],[59,8,60,8],[59,9,60,9],[67,1,67,9],[69,2,69,4],[69,5,69,7],[69,8,70,8],[69,9,70,9],[77,1,77,9],[80,2,80,4],[80,5,80,7],[80,8,81,8],[80,9,81,9],[88,1,88,9],[92,1,92,9]]}
[null,"NOME dell'Organizzazione- Organization NAME","Ruolo nel progetto- Role in the project"]
[null,"/","Partner 4"]
[]
[null,"COSTI ELEGIBILI- ELIGIBLE COSTS","Ricerca industriale - Industrial research",null,null,"Sviluppo sperimentale- Experimental development ",null,null," Budget totale (€)-                Overall budget (€)","Contributo richiesto (€)- Requested grant (€)\n"]
[null,null,"Costi totali- Total costs"," Richiesto (max 65% dei costi totali)                                                    Requested\n(max 65% of the total costs)","Cofinanziato- Co-funded","Costi totali- Total costs"," Richiesto (max 40% dei costi totali)                                Requested\n(max 40% of the total costs)","Cofinanziato- Co-funded"]
[null,"A03-Acquisto di arredi e attrezzature - Equipment and software",{"$f":"C21","v":{"v":0,"d":"0.00"}},{"v":0,"d":"0.00"},{"v":0,"d":"0.00"},{"v":0,"d":"0.00"},{"v":0,"d":"0.00"},{"v":0,"d":"0.00"},{"v":0,"d":"0.00"},{"v":0,"d":"0.00"}]
[null,"A05-Personale strutturato- Permanent staff",{"$f":"G33","v":{"v":0,"d":"0.00"}},{"$f":"H33","v":{"v":0,"d":"0.00"}},{"$f":"I33","v":{"v":0,"d":"0.00"}},{"v":0,"d":"0.00"},{"v":0,"d":"0.00"},{"v":0,"d":"0.00"},{"v":0,"d":"0.00"},{"v":0,"d":"0.00"}]
[null,"A06- Personale non strutturato- Temporary staff (e.g. PhDs, fellowship)",{"$f":"G45","v":{"v":0,"d":"0.00"}},{"$f":"H45","v":{"v":0,"d":"0.00"}},{"v":0,"d":"0.00"},{"v":0,"d":"0.00"},{"v":0,"d":"0.00"},{"v":0,"d":"0.00"},{"v":0,"d":"0.00"},{"v":0,"d":"0.00"}]
[null,"A07-Prestazioni professionali di terzi - Sub-contractors and consultants",{"$f":"C55","v":{"v":0,"d":"0.00"}},{"$f":"D55","v":{"v":0,"d":"0.00"}},{"v":0,"d":"0.00"},{"v":0,"d":"0.00"},{"v":0,"d":"0.00"},{"v":0,"d":"0.00"},{"v":0,"d":"0.00"},{"v":0,"d":"0.00"}]
[null,"A08-Materiali di consumo - Materials and supplies",{"$f":"C65","v":{"v":0,"d":"0.00"}},{"$f":"D65","v":{"v":0,"d":"0.00"}},{"v":0,"d":"0.00"},{"v":0,"d":"0.00"},{"v":0,"d":"0.00"},{"v":0,"d":"0.00"},{"v":0,"d":"0.00"},{"v":0,"d":"0.00"}]
[null,"A09-Spese correnti (questa voce non può superare il 10% dei costi per personale strutturato e non strutturato) - Overheads (this entry cannot exceed 10% of the permament and temporary staff costs) ",{"$f":"C75","v":{"v":0,"d":"0.00"}},{"$f":"D75","v":{"v":0,"d":"0.00"}},{"v":0,"d":"0.00"},{"v":0,"d":"0.00"},{"v":0,"d":"0.00"},{"v":0,"d":"0.00"},{"v":0,"d":"0.00"},{"v":0,"d":"0.00"}]
[null,"A10-Altre spese gestionali - Other costs",{"$f":"C86","v":{"v":0,"d":"0.00"}},{"$f":"D86","v":{"v":0,"d":"0.00"}},{"v":0,"d":"0.00"},{"v":0,"d":"0.00"},{"v":0,"d":"0.00"},{"v":0,"d":"0.00"},{"v":0,"d":"0.00"},{"v":0,"d":"0.00"}]
[null,"TOTALE- TOTAL",{"$f":"SUM(C6:C12)","v":{"v":0,"d":"0.00"}},{"$f":"SUM(D6:D12)","v":{"v":0,"d":"0.00"}},{"v":0,"d":"0.00"},{"v":0,"d":"0.00"},{"v":0,"d":"0.00"},{"v":0,"d":"0.00"},{"v":0,"d":"0.00"},{"v":0,"d":"0.00"}]
[]
[]
[null,"A03-Acquisto di arredi e attrezzature - Equipment and software","Ricerca industriale - Industrial research",null,null,"Sviluppo sperimentale- Experimental development ",null,null," Budget totale (€)-                Overall budget (€)","Contributo richiesto (€)- Requested grant (€)\n"]
[null,"Descrizione- Description","Costi totali- Total costs"," Richiesto (max 65% dei costi totali)                                                    Requested\n(max 65% of the total costs)","Cofinanziato- Co-funded","Costi totali- Total costs"," Richiesto (max 40% dei costi totali)                                Requested\n(max 40% of the total costs)","Cofinanziato- Co-funded"]
[null,"…",{"v":0,"d":"0.00"},{"v":0,"d":"0.00"},{"v":0,"d":"0.00"},{"v":0,"d":"0.00"},{"v":0,"d":"0.00"},{"v":0,"d":"0.00"},{"$f":"SUM(C18+F18)","v":{"v":0,"d":"0.00"}},{"$f":"SUM(D18+G18)","v":{"v":0,"d":"0.00"}}]
[null,"Ad esempio- Spettrofotometro e.g.Spectrophotometer",{"v":0,"d":"0.00"},{"v":0,"d":"0.00"},{"v":0,"d":"0.00"},{"v":0,"d":"0.00"},{"v":0,"d":"0.00"},{"v":0,"d":"0.00"},{"$f":"SUM(C19+F19)","v":{"v":0,"d":"0.00"}},{"v":0,"d":"0.00"}]
[null,"Aggiungere righe se necessario- Add rows if necessary",{"v":0,"d":"0.00"},{"v":0,"d":"0.00"},{"v":0,"d":"0.00"},{"v":0,"d":"0.00"},{"v":0,"d":"0.00"},{"v":0,"d":"0.00"},{"v":0,"d":"0.00"},{"v":0,"d":"0.00"}]
[null,"TOTALE- TOTAL",{"$f":"SUM(C18:C20)","v":{"v":0,"d":"0.00"}},{"$f":"SUM(D18:D20)","v":{"v":0,"d":"0.00"}},{"v":0,"d":"0.00"},{"v":0,"d":"0.00"},{"v":0,"d":"0.00"},{"v":0,"d":"0.00"},{"$f":"SUM(C21+F21)","v":{"v":0,"d":"0.00"}},{"$f":"SUM(D21+G21)","v":{"v":0,"d":"0.00"}}]
[]
[null,"Descrivete in dettaglio gli arredi, attrezzature e software e il costo totale (allegando anche specifici preventivi). Considerate che solo l' ammortamento per nuovi arredi, attrezzature e software sarà considerato come costo elegibile.                                                       \nDescribe in detail the required equipment/software and the total costs (attach specific estimate of costs). Consider that only depreciation for new equipment and software is recognized as an eligible cost."]
[]
[]
[null,"A05 - Personale strutturato (incluso il nuovo personale ingaggiato)-                                                                      Permanent staff (new personnel hired included)",{"$nulls":4},"Ricerca industriale - Industrial research",null,null,"Sviluppo sperimentale- Experimental development ",null,null," Budget totale (€)-                Overall budget (€)","Contributo richiesto (€)- Requested grant (€)\n"]
[null,"Nome- Name","Ruolo nel progetto (Wp/ tasks)                                Role in the project (Wps/tasks)","Impegno nel progetto (mesi uomo)- Effort (Person months)","Salario base annuale (€)         Annual Base Salary (€)","Ruolo all'interno dell'organizzazione            Role in the organization","Costi totali- Total costs"," Richiesto (max 65% dei costi totali)                                                    Requested\n(max 65% of the total costs)","Cofinanziato- Co-funded","Costi totali- Total costs"," Richiesto (max 40% dei costi totali)                                Requested\n(max 40% of the total costs)","Cofinanziato- Co-funded"]
[null,"…",null,null,{"v":0,"d":"0.00"},null,{"v":0,"d":"0.00"},{"v":0,"d":"0.00"},{"v":0,"d":"0.00"},{"v":0,"d":"0.00"},{"v":0,"d":"0.00"},{"v":0,"d":"0.00"},{"$f":"SUM(G28+J28)","v":{"v":0,"d":"0.00"}},{"$f":"SUM(H28+K28)","v":{"v":0,"d":"0.00"}}]
[null,"…",null,null,{"v":0,"d":"0.00"},null,{"v":0,"d":"0.00"},{"v":0,"d":"0.00"},{"v":0,"d":"0.00"},{"v":0,"d":"0.00"},{"v":0,"d":"0.00"},{"v":0,"d":"0.00"},{"$f":"SUM(G29+J29)","v":{"v":0,"d":"0.00"}},{"v":0,"d":"0.00"}]
[null,"…",null,null,{"v":0,"d":"0.00"},null,{"v":0,"d":"0.00"},{"v":0,"d":"0.00"},{"v":0,"d":"0.00"},{"v":0,"d":"0.00"},{"v":0,"d":"0.00"},{"v":0,"d":"0.00"},{"v":0,"d":"0.00"},{"v":0,"d":"0.00"}]
[null,"…",null,null,{"v":0,"d":"0.00"},null,{"v":0,"d":"0.00"},{"v":0,"d":"0.00"},{"v":0,"d":"0.00"},{"v":0,"d":"0.00"},{"v":0,"d":"0.00"},{"v":0,"d":"0.00"},{"v":0,"d":"0.00"},{"v":0,"d":"0.00"}]
[null,"Aggiungere righe se necessario- Add rows if necessary",null,null,{"v":0,"d":"0.00"},null,{"v":0,"d":"0.00"},{"v":0,"d":"0.00"},{"v":0,"d":"0.00"},{"v":0,"d":"0.00"},{"v":0,"d":"0.00"},{"v":0,"d":"0.00"},{"v":0,"d":"0.00"},{"v":0,"d":"0.00"}]
[null,"TOTALE- TOTAL",{"$nulls":4},{"$f":"SUM(G28:G32)","v":{"v":0,"d":"0.00"}},{"$f":"SUM(H28:H32)","v":{"v":0,"d":"0.00"}},{"v":0,"d":"0.00"},{"v":0,"d":"0.00"},{"v":0,"d":"0.00"},{"v":0,"d":"0.00"},{"$f":"SUM(M28:M32)","v":{"v":0,"d":"0.00"}},{"$f":"SUM(N28:N32)","v":{"v":0,"d":"0.00"}}]
[]
[null,"Chiarite con tutte le informazioni necessarie- Clarify with all necessary informations"]
[]
[]
[null,"A06 - Personale non strutturato (incluso il nuovo personale ingaggiato)-                                                       Temporary staff (new personnel hired included)",{"$nulls":4},"Ricerca industriale - Industrial research",null,null,"Sviluppo sperimentale- Experimental development ",null,null," Budget totale (€)-                Overall budget (€)","Contributo richiesto (€)- Requested grant (€)\n"]
[null,"Nome- Name","Ruolo nel progetto (Wp/ tasks)                                Role in the project (Wps/tasks)","Impegno nel progetto (mesi uomo)- Effort (Person months)","Salario base annuale (€)         Annual Base Salary (€)","Ruolo all'interno dell'organizzazione            Role in the organization","Costi totali- Total costs"," Richiesto (max 65% dei costi totali)                                                    Requested\n(max 65% of the total costs)","Cofinanziato- Co-funded","Costi totali- Total costs"," Richiesto (max 40% dei costi totali)                                Requested\n(max 40% of the total costs)","Cofinanziato- Co-funded"]
[null,"…",null,null,{"v":0,"d":"0.00"},null,{"v":0,"d":"0.00"},{"v":0,"d":"0.00"},{"v":0,"d":"0.00"},{"v":0,"d":"0.00"},{"v":0,"d":"0.00"},{"v":0,"d":"0.00"},{"$f":"SUM(G40+J40)","v":{"v":0,"d":"0.00"}},{"$f":"SUM(H40+K40)","v":{"v":0,"d":"0.00"}}]
[null,"…",null,null,{"v":0,"d":"0.00"},null,{"v":0,"d":"0.00"},{"v":0,"d":"0.00"},{"v":0,"d":"0.00"},{"v":0,"d":"0.00"},{"v":0,"d":"0.00"},{"v":0,"d":"0.00"},{"$f":"SUM(G41+J41)","v":{"v":0,"d":"0.00"}},{"v":0,"d":"0.00"}]
[null,"…",null,null,{"v":0,"d":"0.00"},null,{"v":0,"d":"0.00"},{"v":0,"d":"0.00"},{"v":0,"d":"0.00"},{"v":0,"d":"0.00"},{"v":0,"d":"0.00"},{"v":0,"d":"0.00"},{"v":0,"d":"0.00"},{"v":0,"d":"0.00"}]
[null,"…",null,null,{"v":0,"d":"0.00"},null,{"v":0,"d":"0.00"},{"v":0,"d":"0.00"},{"v":0,"d":"0.00"},{"v":0,"d":"0.00"},{"v":0,"d":"0.00"},{"v":0,"d":"0.00"},{"v":0,"d":"0.00"},{"v":0,"d":"0.00"}]
[null,"Aggiungere righe se necessario- Add rows if necessary",null,null,{"v":0,"d":"0.00"},null,{"v":0,"d":"0.00"},{"v":0,"d":"0.00"},{"v":0,"d":"0.00"},{"v":0,"d":"0.00"},{"v":0,"d":"0.00"},{"v":0,"d":"0.00"},{"v":0,"d":"0.00"},{"v":0,"d":"0.00"}]
[null,"TOTALE- TOTAL",{"$nulls":4},{"$f":"SUM(G40:G44)","v":{"v":0,"d":"0.00"}},{"$f":"SUM(H40:H44)","v":{"v":0,"d":"0.00"}},{"v":0,"d":"0.00"},{"v":0,"d":"0.00"},{"v":0,"d":"0.00"},{"v":0,"d":"0.00"},{"$f":"SUM(M40:M44)","v":{"v":0,"d":"0.00"}},{"$f":"SUM(N40:N44)","v":{"v":0,"d":"0.00"}}]
[]
[null,"Chiarite con tutte le informazioni necessarie- Clarify with all necessary informations"]
[]
[]
[null,"A07 - Prestazioni professionali di terzi - Sub-contractors and consultants","Ricerca industriale - Industrial research",null,null,"Sviluppo sperimentale- Experimental development ",null,null," Budget totale (€)-                Overall budget (€)","Contributo richiesto (€)- Requested grant (€)\n"]
[null,"Nome e affiliazione -Name & affiliation","Costi totali- Total costs"," Richiesto (max 65% dei costi totali)                                                    Requested\n(max 65% of the total costs)","Cofinanziato- Co-funded","Costi totali- Total costs"," Richiesto (max 40% dei costi totali)                                Requested\n(max 40% of the total costs)","Cofinanziato- Co-funded"]
[null,"…",{"v":0,"d":"0.00"},{"v":0,"d":"0.00"},{"v":0,"d":"0.00"},{"v":0,"d":"0.00"},{"v":0,"d":"0.00"},{"v":0,"d":"0.00"},{"$f":"SUM(C52+F52)","v":{"v":0,"d":"0.00"}},{"$f":"SUM(D52+G52)","v":{"v":0,"d":"0.00"}}]
[null,"Costi per audit- audit Costs",{"v":0,"d":"0.00"},{"v":0,"d":"0.00"},{"v":0,"d":"0.00"},{"v":0,"d":"0.00"},{"v":0,"d":"0.00"},{"v":0,"d":"0.00"},{"$f":"SUM(C53+F53)","v":{"v":0,"d":"0.00"}},{"v":0,"d":"0.00"}]
[null,"Aggiungere righe se necessario- Add rows if necessary",{"v":0,"d":"0.00"},{"v":0,"d":"0.00"},{"v":0,"d":"0.00"},{"v":0,"d":"0.00"},{"v":0,"d":"0.00"},{"v":0,"d":"0.00"},{"v":0,"d":"0.00"},{"v":0,"d":"0.00"}]
[null,"TOTALE- TOTAL",{"$f":"SUM(C52:C54)","v":{"v":0,"d":"0.00"}},{"$f":"SUM(D52:D54)","v":{"v":0,"d":"0.00"}},{"v":0,"d":"0.00"},{"v":0,"d":"0.00"},{"v":0,"d":"0.00"},{"v":0,"d":"0.00"},{"$f":"SUM(C55+F55)","v":{"v":0,"d":"0.00"}},{"$f":"SUM(D55+G55)","v":{"v":0,"d":"0.00"}}]
[]
[null,"Elencate i prestatori professionali di terzi e i consulenti e le loro affiliazioni, dettagliando il loro ruolo all'interno del progetto (allegando specifici preventivi).                                                                                                                                                                                                                                          List sub-contractors and consultants together with their affiliation, detail their role in the project (attach specific quotation)"]
[]
[]
[null,"A08-Materiale di consumo - Material and supplies","Ricerca industriale - Industrial research",null,null,"Sviluppo sperimentale- Experimental development ",null,null," Budget totale (€)-                Overall budget (€)","Contributo richiesto (€)- Requested grant (€)\n"]
[null,"Categorie- Categories","Costi totali- Total costs"," Richiesto (max 65% dei costi totali)                                                    Requested\n(max 65% of the total costs)","Cofinanziato- Co-funded","Costi totali- Total costs"," Richiesto (max 40% dei costi totali)                                Requested\n(max 40% of the total costs)","Cofinanziato- Co-funded"]
[null,"…",{"v":0,"d":"0.00"},{"v":0,"d":"0.00"},{"v":0,"d":"0.00"},{"v":0,"d":"0.00"},{"v":0,"d":"0.00"},{"v":0,"d":"0.00"},{"$f":"SUM(C62+F62)","v":{"v":0,"d":"0.00"}},{"$f":"SUM(D62+G62)","v":{"v":0,"d":"0.00"}}]
[null,"…",{"v":0,"d":"0.00"},{"v":0,"d":"0.00"},{"v":0,"d":"0.00"},{"v":0,"d":"0.00"},{"v":0,"d":"0.00"},{"v":0,"d":"0.00"},{"v":0,"d":"0.00"},{"$f":"SUM(D63+G63)","v":{"v":0,"d":"0.00"}}]
[null,"Aggiungere righe se necessario- Add rows if necessary",{"v":0,"d":"0.00"},{"v":0,"d":"0.00"},{"v":0,"d":"0.00"},{"v":0,"d":"0.00"},{"v":0,"d":"0.00"},{"v":0,"d":"0.00"},{"v":0,"d":"0.00"},{"$f":"SUM(D64+G64)","v":{"v":0,"d":"0.00"}}]
[null,"TOTALE- TOTAL",{"$f":"SUM(C62:C64)","v":{"v":0,"d":"0.00"}},{"$f":"SUM(D62:D64)","v":{"v":0,"d":"0.00"}},{"v":0,"d":"0.00"},{"v":0,"d":"0.00"},{"v":0,"d":"0.00"},{"v":0,"d":"0.00"},{"v":0,"d":"0.00"},{"v":0,"d":"0.00"}]
[]
[null,"Specificate quantità e tipologie- Specify quantity and quality "]
[]
[]
[null,"A09-Spese correnti (non oltre il 10% dei costi per personale strutturato e non strutturato) - Overheads (this entry cannot exceed 10% of the permament and temporary staff costs) ","Ricerca industriale - Industrial research",null,null,"Sviluppo sperimentale- Experimental development ",null,null," Budget totale (€)-                Overall budget (€)","Contributo richiesto (€)- Requested grant (€)\n"]
[null,"Descrizione- Description","Costi totali- Total costs"," Richiesto (max 65% dei costi totali)                                                    Requested\n(max 65% of the total costs)","Cofinanziato- Co-funded","Costi totali- Total costs"," Richiesto (max 40% dei costi totali)                                Requested\n(max 40% of the total costs)","Cofinanziato- Co-funded"]
[null,"…",{"v":0,"d":"0.00"},{"v":0,"d":"0.00"},{"v":0,"d":"0.00"},{"v":0,"d":"0.00"},{"v":0,"d":"0.00"},{"v":0,"d":"0.00"},{"$f":"SUM(C72+F72)","v":{"v":0,"d":"0.00"}},{"v":0,"d":"0.00"}]
[null,"…",{"v":0,"d":"0.00"},{"v":0,"d":"0.00"},{"v":0,"d":"0.00"},{"v":0,"d":"0.00"},{"v":0,"d":"0.00"},{"v":0,"d":"0.00"},{"v":0,"d":"0.00"},{"v":0,"d":"0.00"}]
[null,"Aggiungere righe se necessario- Add rows if necessary",{"v":0,"d":"0.00"},{"v":0,"d":"0.00"},{"v":0,"d":"0.00"},{"v":0,"d":"0.00"},{"v":0,"d":"0.00"},{"v":0,"d":"0.00"},{"v":0,"d":"0.00"},{"v":0,"d":"0.00"}]
[null,"TOTALE- TOTAL",{"$f":"SUM(C72:C74)","v":{"v":0,"d":"0.00"}},{"$f":"SUM(D72:D74)","v":{"v":0,"d":"0.00"}},{"v":0,"d":"0.00"},{"v":0,"d":"0.00"},{"v":0,"d":"0.00"},{"v":0,"d":"0.00"},{"v":0,"d":"0.00"},{"v":0,"d":"0.00"}]
[]
[null,"Specificate- Specify"]
[]
[]
[]
[null,"A10 - Altre spese gestionali- Other costs","Ricerca industriale - Industrial research",null,null,"Sviluppo sperimentale- Experimental development ",null,null," Budget totale (€)-                Overall budget (€)","Contributo richiesto (€)- Requested grant (€)\n"]
[null,"Descrizione- Description","Costi totali- Total costs"," Richiesto (max 65% dei costi totali)                                                    Requested\n(max 65% of the total costs)","Cofinanziato- Co-funded","Costi totali- Total costs"," Richiesto (max 40% dei costi totali)                                Requested\n(max 40% of the total costs)","Cofinanziato- Co-funded"]
[null,"…",{"v":0,"d":"0.00"},{"v":0,"d":"0.00"},{"v":0,"d":"0.00"},{"v":0,"d":"0.00"},{"v":0,"d":"0.00"},{"v":0,"d":"0.00"},{"$f":"SUM(C83+F83)","v":{"v":0,"d":"0.00"}},{"v":0,"d":"0.00"}]
[null,"…",{"v":0,"d":"0.00"},{"v":0,"d":"0.00"},{"v":0,"d":"0.00"},{"v":0,"d":"0.00"},{"v":0,"d":"0.00"},{"v":0,"d":"0.00"},{"v":0,"d":"0.00"},{"v":0,"d":"0.00"}]
[null,"Aggiungere righe se necessario- Add rows if necessary",{"v":0,"d":"0.00"},{"v":0,"d":"0.00"},{"v":0,"d":"0.00"},{"v":0,"d":"0.00"},{"v":0,"d":"0.00"},{"v":0,"d":"0.00"},{"v":0,"d":"0.00"},{"v":0,"d":"0.00"}]
[null,"TOTALE- TOTAL",{"$f":"SUM(C83:C85)","v":{"v":0,"d":"0.00"}},{"$f":"SUM(D83:D85)","v":{"v":0,"d":"0.00"}},{"v":0,"d":"0.00"},{"v":0,"d":"0.00"},{"v":0,"d":"0.00"},{"v":0,"d":"0.00"},{"v":0,"d":"0.00"},{"v":0,"d":"0.00"}]
[]
[null,"Specificate- Specify"]
[]
[]
[]
[null,"Commenti aggiuntivi- Additional comments"]